BEGIN:VCALENDAR
VERSION:2.0
PRODID:-//The Chapel at Sherwood Shores - ECPv6.15.13.1//NONSGML v1.0//EN
CALSCALE:GREGORIAN
METHOD:PUBLISH
X-WR-CALNAME:The Chapel at Sherwood Shores
X-ORIGINAL-URL:https://sherwoodshoreschapel.org
X-WR-CALDESC:Events for The Chapel at Sherwood Shores
REFRESH-INTERVAL;VALUE=DURATION:PT1H
X-Robots-Tag:noindex
X-PUBLISHED-TTL:PT1H
BEGIN:VTIMEZONE
TZID:UTC
BEGIN:STANDARD
TZOFFSETFROM:+0000
TZOFFSETTO:+0000
TZNAME:UTC
DTSTART:20210101T000000
END:STANDARD
END:VTIMEZONE
BEGIN:VTIMEZONE
TZID:America/Mexico_City
BEGIN:DAYLIGHT
TZOFFSETFROM:-0600
TZOFFSETTO:-0500
TZNAME:CDT
DTSTART:20210404T080000
END:DAYLIGHT
BEGIN:STANDARD
TZOFFSETFROM:-0500
TZOFFSETTO:-0600
TZNAME:CST
DTSTART:20211031T070000
END:STANDARD
BEGIN:DAYLIGHT
TZOFFSETFROM:-0600
TZOFFSETTO:-0500
TZNAME:CDT
DTSTART:20220403T080000
END:DAYLIGHT
BEGIN:STANDARD
TZOFFSETFROM:-0500
TZOFFSETTO:-0600
TZNAME:CST
DTSTART:20221030T070000
END:STANDARD
END:VTIMEZONE
BEGIN:VEVENT
DTSTART;TZID=UTC:20220619T103000
DTEND;TZID=UTC:20220619T113000
DTSTAMP:20260424T030932
CREATED:20200412T214002Z
LAST-MODIFIED:20211223T202207Z
UID:2003-1655634600-1655638200@sherwoodshoreschapel.org
SUMMARY:Sunday Worship Service
DESCRIPTION:Come worship with us.
URL:https://sherwoodshoreschapel.org/index.php/event/sunday-worship-service-2022-06-19/
LOCATION:The Chapel\, 969 Hillcrest Circle\, Gordonville\, TX\, 76245\, United States
CATEGORIES:Sunday Morning Worship Service
ATTACH;FMTTYPE=image/png:https://sherwoodshoreschapel.org/wp-content/uploads/2020/04/sunday-sermon.png
ORGANIZER;CN="The Chapel at Sherwood Shores":MAILTO:chapeloffice@sherwoodshoreschapel.org
END:VEVENT
BEGIN:VEVENT
DTSTART;TZID=America/Mexico_City:20220618T100000
DTEND;TZID=America/Mexico_City:20220618T110000
DTSTAMP:20260424T030932
CREATED:20200412T120048Z
LAST-MODIFIED:20200412T120048Z
UID:2267-1655546400-1655550000@sherwoodshoreschapel.org
SUMMARY:Board of Elders Meeting
DESCRIPTION:We will meet in The Chapel Community Hall at 10:00 AM.
URL:https://sherwoodshoreschapel.org/index.php/event/elders_meeting-2022-06-18/
LOCATION:TX
CATEGORIES:Church Business
ATTACH;FMTTYPE=image/jpeg:https://sherwoodshoreschapel.org/wp-content/uploads/2016/12/elders_meeting.jpg
ORGANIZER;CN="Pastor Bobby Baker":MAILTO:pastor@sherwoodshoreschapel.org
END:VEVENT
BEGIN:VEVENT
DTSTART;TZID=UTC:20220615T180000
DTEND;TZID=UTC:20220615T190000
DTSTAMP:20260424T030932
CREATED:20211223T200324Z
LAST-MODIFIED:20211224T154233Z
UID:2300-1655316000-1655319600@sherwoodshoreschapel.org
SUMMARY:Wednesday Evening Bible Study
DESCRIPTION:
URL:https://sherwoodshoreschapel.org/index.php/event/wednesday-evening-bible-study-2022-06-15/
LOCATION:The Chapel\, 969 Hillcrest Circle\, Gordonville\, TX\, 76245\, United States
CATEGORIES:Teaching
ATTACH;FMTTYPE=image/png:https://sherwoodshoreschapel.org/wp-content/uploads/2021/12/Wed-Night-Bible-Study.png
ORGANIZER;CN="The Chapel at Sherwood Shores":MAILTO:chapeloffice@sherwoodshoreschapel.org
END:VEVENT
BEGIN:VEVENT
DTSTART;TZID=America/Mexico_City:20220613T090000
DTEND;TZID=America/Mexico_City:20220613T100000
DTSTAMP:20260424T030932
CREATED:20200412T120003Z
LAST-MODIFIED:20211223T195735Z
UID:2216-1655110800-1655114400@sherwoodshoreschapel.org
SUMMARY:Board of Deacons Meeting
DESCRIPTION:We will meet in The Chapel Community Hall at 9:00 AM.
URL:https://sherwoodshoreschapel.org/index.php/event/speaking-the-gospel-with-clarity-2022-06-13/
LOCATION:TX
CATEGORIES:Church Business
ATTACH;FMTTYPE=image/png:https://sherwoodshoreschapel.org/wp-content/uploads/2016/12/deacons-meeting1.png
ORGANIZER;CN="Pastor Bobby Baker":MAILTO:pastor@sherwoodshoreschapel.org
END:VEVENT
BEGIN:VEVENT
DTSTART;TZID=UTC:20220612T180000
DTEND;TZID=UTC:20220612T190000
DTSTAMP:20260424T030932
CREATED:20211223T201108Z
LAST-MODIFIED:20211223T201108Z
UID:2359-1655056800-1655060400@sherwoodshoreschapel.org
SUMMARY:Sunday Evening Service
DESCRIPTION:
URL:https://sherwoodshoreschapel.org/index.php/event/sunday-evening-service-2022-06-12/
LOCATION:The Chapel\, 969 Hillcrest Circle\, Gordonville\, TX\, 76245\, United States
CATEGORIES:Teaching
ATTACH;FMTTYPE=image/jpeg:https://sherwoodshoreschapel.org/wp-content/uploads/2021/12/page-bible-studies.jpg
ORGANIZER;CN="The Chapel at Sherwood Shores":MAILTO:chapeloffice@sherwoodshoreschapel.org
END:VEVENT
BEGIN:VEVENT
DTSTART;TZID=UTC:20220612T103000
DTEND;TZID=UTC:20220612T113000
DTSTAMP:20260424T030932
CREATED:20200412T214002Z
LAST-MODIFIED:20211223T202205Z
UID:2002-1655029800-1655033400@sherwoodshoreschapel.org
SUMMARY:Sunday Worship Service
DESCRIPTION:Come worship with us.
URL:https://sherwoodshoreschapel.org/index.php/event/sunday-worship-service-2022-06-12/
LOCATION:The Chapel\, 969 Hillcrest Circle\, Gordonville\, TX\, 76245\, United States
CATEGORIES:Sunday Morning Worship Service
ATTACH;FMTTYPE=image/png:https://sherwoodshoreschapel.org/wp-content/uploads/2020/04/sunday-sermon.png
ORGANIZER;CN="The Chapel at Sherwood Shores":MAILTO:chapeloffice@sherwoodshoreschapel.org
END:VEVENT
BEGIN:VEVENT
DTSTART;TZID=UTC:20220608T180000
DTEND;TZID=UTC:20220608T190000
DTSTAMP:20260424T030932
CREATED:20211223T200324Z
LAST-MODIFIED:20211224T154233Z
UID:2299-1654711200-1654714800@sherwoodshoreschapel.org
SUMMARY:Wednesday Evening Bible Study
DESCRIPTION:
URL:https://sherwoodshoreschapel.org/index.php/event/wednesday-evening-bible-study-2022-06-08/
LOCATION:The Chapel\, 969 Hillcrest Circle\, Gordonville\, TX\, 76245\, United States
CATEGORIES:Teaching
ATTACH;FMTTYPE=image/png:https://sherwoodshoreschapel.org/wp-content/uploads/2021/12/Wed-Night-Bible-Study.png
ORGANIZER;CN="The Chapel at Sherwood Shores":MAILTO:chapeloffice@sherwoodshoreschapel.org
END:VEVENT
BEGIN:VEVENT
DTSTART;TZID=UTC:20220605T180000
DTEND;TZID=UTC:20220605T190000
DTSTAMP:20260424T030932
CREATED:20211223T201108Z
LAST-MODIFIED:20211223T201108Z
UID:2358-1654452000-1654455600@sherwoodshoreschapel.org
SUMMARY:Sunday Evening Service
DESCRIPTION:
URL:https://sherwoodshoreschapel.org/index.php/event/sunday-evening-service-2022-06-05/
LOCATION:The Chapel\, 969 Hillcrest Circle\, Gordonville\, TX\, 76245\, United States
CATEGORIES:Teaching
ATTACH;FMTTYPE=image/jpeg:https://sherwoodshoreschapel.org/wp-content/uploads/2021/12/page-bible-studies.jpg
ORGANIZER;CN="The Chapel at Sherwood Shores":MAILTO:chapeloffice@sherwoodshoreschapel.org
END:VEVENT
BEGIN:VEVENT
DTSTART;TZID=UTC:20220605T103000
DTEND;TZID=UTC:20220605T113000
DTSTAMP:20260424T030932
CREATED:20200412T214002Z
LAST-MODIFIED:20211223T202205Z
UID:2001-1654425000-1654428600@sherwoodshoreschapel.org
SUMMARY:Sunday Worship Service
DESCRIPTION:Come worship with us.
URL:https://sherwoodshoreschapel.org/index.php/event/sunday-worship-service-2022-06-05/
LOCATION:The Chapel\, 969 Hillcrest Circle\, Gordonville\, TX\, 76245\, United States
CATEGORIES:Sunday Morning Worship Service
ATTACH;FMTTYPE=image/png:https://sherwoodshoreschapel.org/wp-content/uploads/2020/04/sunday-sermon.png
ORGANIZER;CN="The Chapel at Sherwood Shores":MAILTO:chapeloffice@sherwoodshoreschapel.org
END:VEVENT
BEGIN:VEVENT
DTSTART;TZID=UTC:20220601T180000
DTEND;TZID=UTC:20220601T190000
DTSTAMP:20260424T030932
CREATED:20211223T200324Z
LAST-MODIFIED:20211224T154233Z
UID:2298-1654106400-1654110000@sherwoodshoreschapel.org
SUMMARY:Wednesday Evening Bible Study
DESCRIPTION:
URL:https://sherwoodshoreschapel.org/index.php/event/wednesday-evening-bible-study-2022-06-01/
LOCATION:The Chapel\, 969 Hillcrest Circle\, Gordonville\, TX\, 76245\, United States
CATEGORIES:Teaching
ATTACH;FMTTYPE=image/png:https://sherwoodshoreschapel.org/wp-content/uploads/2021/12/Wed-Night-Bible-Study.png
ORGANIZER;CN="The Chapel at Sherwood Shores":MAILTO:chapeloffice@sherwoodshoreschapel.org
END:VEVENT
BEGIN:VEVENT
DTSTART;TZID=UTC:20220529T180000
DTEND;TZID=UTC:20220529T190000
DTSTAMP:20260424T030932
CREATED:20211223T201108Z
LAST-MODIFIED:20211223T201108Z
UID:2357-1653847200-1653850800@sherwoodshoreschapel.org
SUMMARY:Sunday Evening Service
DESCRIPTION:
URL:https://sherwoodshoreschapel.org/index.php/event/sunday-evening-service-2022-05-29/
LOCATION:The Chapel\, 969 Hillcrest Circle\, Gordonville\, TX\, 76245\, United States
CATEGORIES:Teaching
ATTACH;FMTTYPE=image/jpeg:https://sherwoodshoreschapel.org/wp-content/uploads/2021/12/page-bible-studies.jpg
ORGANIZER;CN="The Chapel at Sherwood Shores":MAILTO:chapeloffice@sherwoodshoreschapel.org
END:VEVENT
BEGIN:VEVENT
DTSTART;TZID=UTC:20220529T103000
DTEND;TZID=UTC:20220529T113000
DTSTAMP:20260424T030932
CREATED:20200412T214002Z
LAST-MODIFIED:20211223T202205Z
UID:2000-1653820200-1653823800@sherwoodshoreschapel.org
SUMMARY:Sunday Worship Service
DESCRIPTION:Come worship with us.
URL:https://sherwoodshoreschapel.org/index.php/event/sunday-worship-service-2022-05-29/
LOCATION:The Chapel\, 969 Hillcrest Circle\, Gordonville\, TX\, 76245\, United States
CATEGORIES:Sunday Morning Worship Service
ATTACH;FMTTYPE=image/png:https://sherwoodshoreschapel.org/wp-content/uploads/2020/04/sunday-sermon.png
ORGANIZER;CN="The Chapel at Sherwood Shores":MAILTO:chapeloffice@sherwoodshoreschapel.org
END:VEVENT
BEGIN:VEVENT
DTSTART;TZID=UTC:20220525T180000
DTEND;TZID=UTC:20220525T190000
DTSTAMP:20260424T030932
CREATED:20211223T200324Z
LAST-MODIFIED:20211224T154232Z
UID:2297-1653501600-1653505200@sherwoodshoreschapel.org
SUMMARY:Wednesday Evening Bible Study
DESCRIPTION:
URL:https://sherwoodshoreschapel.org/index.php/event/wednesday-evening-bible-study-2022-05-25/
LOCATION:The Chapel\, 969 Hillcrest Circle\, Gordonville\, TX\, 76245\, United States
CATEGORIES:Teaching
ATTACH;FMTTYPE=image/png:https://sherwoodshoreschapel.org/wp-content/uploads/2021/12/Wed-Night-Bible-Study.png
ORGANIZER;CN="The Chapel at Sherwood Shores":MAILTO:chapeloffice@sherwoodshoreschapel.org
END:VEVENT
BEGIN:VEVENT
DTSTART;TZID=UTC:20220522T180000
DTEND;TZID=UTC:20220522T190000
DTSTAMP:20260424T030932
CREATED:20211223T201108Z
LAST-MODIFIED:20211223T201108Z
UID:2356-1653242400-1653246000@sherwoodshoreschapel.org
SUMMARY:Sunday Evening Service
DESCRIPTION:
URL:https://sherwoodshoreschapel.org/index.php/event/sunday-evening-service-2022-05-22/
LOCATION:The Chapel\, 969 Hillcrest Circle\, Gordonville\, TX\, 76245\, United States
CATEGORIES:Teaching
ATTACH;FMTTYPE=image/jpeg:https://sherwoodshoreschapel.org/wp-content/uploads/2021/12/page-bible-studies.jpg
ORGANIZER;CN="The Chapel at Sherwood Shores":MAILTO:chapeloffice@sherwoodshoreschapel.org
END:VEVENT
BEGIN:VEVENT
DTSTART;TZID=UTC:20220522T103000
DTEND;TZID=UTC:20220522T113000
DTSTAMP:20260424T030932
CREATED:20200412T214002Z
LAST-MODIFIED:20211223T202205Z
UID:1999-1653215400-1653219000@sherwoodshoreschapel.org
SUMMARY:Sunday Worship Service
DESCRIPTION:Come worship with us.
URL:https://sherwoodshoreschapel.org/index.php/event/sunday-worship-service-2022-05-22/
LOCATION:The Chapel\, 969 Hillcrest Circle\, Gordonville\, TX\, 76245\, United States
CATEGORIES:Sunday Morning Worship Service
ATTACH;FMTTYPE=image/png:https://sherwoodshoreschapel.org/wp-content/uploads/2020/04/sunday-sermon.png
ORGANIZER;CN="The Chapel at Sherwood Shores":MAILTO:chapeloffice@sherwoodshoreschapel.org
END:VEVENT
BEGIN:VEVENT
DTSTART;TZID=America/Mexico_City:20220521T100000
DTEND;TZID=America/Mexico_City:20220521T110000
DTSTAMP:20260424T030932
CREATED:20200412T120048Z
LAST-MODIFIED:20200412T120048Z
UID:2266-1653127200-1653130800@sherwoodshoreschapel.org
SUMMARY:Board of Elders Meeting
DESCRIPTION:We will meet in The Chapel Community Hall at 10:00 AM.
URL:https://sherwoodshoreschapel.org/index.php/event/elders_meeting-2022-05-21/
LOCATION:TX
CATEGORIES:Church Business
ATTACH;FMTTYPE=image/jpeg:https://sherwoodshoreschapel.org/wp-content/uploads/2016/12/elders_meeting.jpg
ORGANIZER;CN="Pastor Bobby Baker":MAILTO:pastor@sherwoodshoreschapel.org
END:VEVENT
BEGIN:VEVENT
DTSTART;TZID=UTC:20220518T180000
DTEND;TZID=UTC:20220518T190000
DTSTAMP:20260424T030932
CREATED:20211223T200324Z
LAST-MODIFIED:20211224T154231Z
UID:2296-1652896800-1652900400@sherwoodshoreschapel.org
SUMMARY:Wednesday Evening Bible Study
DESCRIPTION:
URL:https://sherwoodshoreschapel.org/index.php/event/wednesday-evening-bible-study-2022-05-18/
LOCATION:The Chapel\, 969 Hillcrest Circle\, Gordonville\, TX\, 76245\, United States
CATEGORIES:Teaching
ATTACH;FMTTYPE=image/png:https://sherwoodshoreschapel.org/wp-content/uploads/2021/12/Wed-Night-Bible-Study.png
ORGANIZER;CN="The Chapel at Sherwood Shores":MAILTO:chapeloffice@sherwoodshoreschapel.org
END:VEVENT
BEGIN:VEVENT
DTSTART;TZID=UTC:20220515T180000
DTEND;TZID=UTC:20220515T190000
DTSTAMP:20260424T030932
CREATED:20211223T201108Z
LAST-MODIFIED:20211223T201108Z
UID:2355-1652637600-1652641200@sherwoodshoreschapel.org
SUMMARY:Sunday Evening Service
DESCRIPTION:
URL:https://sherwoodshoreschapel.org/index.php/event/sunday-evening-service-2022-05-15/
LOCATION:The Chapel\, 969 Hillcrest Circle\, Gordonville\, TX\, 76245\, United States
CATEGORIES:Teaching
ATTACH;FMTTYPE=image/jpeg:https://sherwoodshoreschapel.org/wp-content/uploads/2021/12/page-bible-studies.jpg
ORGANIZER;CN="The Chapel at Sherwood Shores":MAILTO:chapeloffice@sherwoodshoreschapel.org
END:VEVENT
BEGIN:VEVENT
DTSTART;TZID=UTC:20220515T103000
DTEND;TZID=UTC:20220515T113000
DTSTAMP:20260424T030932
CREATED:20200412T214002Z
LAST-MODIFIED:20211223T202205Z
UID:1998-1652610600-1652614200@sherwoodshoreschapel.org
SUMMARY:Sunday Worship Service
DESCRIPTION:Come worship with us.
URL:https://sherwoodshoreschapel.org/index.php/event/sunday-worship-service-2022-05-15/
LOCATION:The Chapel\, 969 Hillcrest Circle\, Gordonville\, TX\, 76245\, United States
CATEGORIES:Sunday Morning Worship Service
ATTACH;FMTTYPE=image/png:https://sherwoodshoreschapel.org/wp-content/uploads/2020/04/sunday-sermon.png
ORGANIZER;CN="The Chapel at Sherwood Shores":MAILTO:chapeloffice@sherwoodshoreschapel.org
END:VEVENT
BEGIN:VEVENT
DTSTART;TZID=UTC:20220511T180000
DTEND;TZID=UTC:20220511T190000
DTSTAMP:20260424T030932
CREATED:20211223T200324Z
LAST-MODIFIED:20211224T154230Z
UID:2295-1652292000-1652295600@sherwoodshoreschapel.org
SUMMARY:Wednesday Evening Bible Study
DESCRIPTION:
URL:https://sherwoodshoreschapel.org/index.php/event/wednesday-evening-bible-study-2022-05-11/
LOCATION:The Chapel\, 969 Hillcrest Circle\, Gordonville\, TX\, 76245\, United States
CATEGORIES:Teaching
ATTACH;FMTTYPE=image/png:https://sherwoodshoreschapel.org/wp-content/uploads/2021/12/Wed-Night-Bible-Study.png
ORGANIZER;CN="The Chapel at Sherwood Shores":MAILTO:chapeloffice@sherwoodshoreschapel.org
END:VEVENT
BEGIN:VEVENT
DTSTART;TZID=America/Mexico_City:20220509T090000
DTEND;TZID=America/Mexico_City:20220509T100000
DTSTAMP:20260424T030932
CREATED:20200412T120003Z
LAST-MODIFIED:20211223T195735Z
UID:2215-1652086800-1652090400@sherwoodshoreschapel.org
SUMMARY:Board of Deacons Meeting
DESCRIPTION:We will meet in The Chapel Community Hall at 9:00 AM.
URL:https://sherwoodshoreschapel.org/index.php/event/speaking-the-gospel-with-clarity-2022-05-09/
LOCATION:TX
CATEGORIES:Church Business
ATTACH;FMTTYPE=image/png:https://sherwoodshoreschapel.org/wp-content/uploads/2016/12/deacons-meeting1.png
ORGANIZER;CN="Pastor Bobby Baker":MAILTO:pastor@sherwoodshoreschapel.org
END:VEVENT
BEGIN:VEVENT
DTSTART;TZID=UTC:20220508T180000
DTEND;TZID=UTC:20220508T190000
DTSTAMP:20260424T030932
CREATED:20211223T201108Z
LAST-MODIFIED:20211223T201108Z
UID:2354-1652032800-1652036400@sherwoodshoreschapel.org
SUMMARY:Sunday Evening Service
DESCRIPTION:
URL:https://sherwoodshoreschapel.org/index.php/event/sunday-evening-service-2022-05-08/
LOCATION:The Chapel\, 969 Hillcrest Circle\, Gordonville\, TX\, 76245\, United States
CATEGORIES:Teaching
ATTACH;FMTTYPE=image/jpeg:https://sherwoodshoreschapel.org/wp-content/uploads/2021/12/page-bible-studies.jpg
ORGANIZER;CN="The Chapel at Sherwood Shores":MAILTO:chapeloffice@sherwoodshoreschapel.org
END:VEVENT
BEGIN:VEVENT
DTSTART;TZID=UTC:20220508T103000
DTEND;TZID=UTC:20220508T113000
DTSTAMP:20260424T030932
CREATED:20200412T214002Z
LAST-MODIFIED:20211223T202204Z
UID:1997-1652005800-1652009400@sherwoodshoreschapel.org
SUMMARY:Sunday Worship Service
DESCRIPTION:Come worship with us.
URL:https://sherwoodshoreschapel.org/index.php/event/sunday-worship-service-2022-05-08/
LOCATION:The Chapel\, 969 Hillcrest Circle\, Gordonville\, TX\, 76245\, United States
CATEGORIES:Sunday Morning Worship Service
ATTACH;FMTTYPE=image/png:https://sherwoodshoreschapel.org/wp-content/uploads/2020/04/sunday-sermon.png
ORGANIZER;CN="The Chapel at Sherwood Shores":MAILTO:chapeloffice@sherwoodshoreschapel.org
END:VEVENT
BEGIN:VEVENT
DTSTART;TZID=UTC:20220504T180000
DTEND;TZID=UTC:20220504T190000
DTSTAMP:20260424T030932
CREATED:20211223T200324Z
LAST-MODIFIED:20211224T154230Z
UID:2294-1651687200-1651690800@sherwoodshoreschapel.org
SUMMARY:Wednesday Evening Bible Study
DESCRIPTION:
URL:https://sherwoodshoreschapel.org/index.php/event/wednesday-evening-bible-study-2022-05-04/
LOCATION:The Chapel\, 969 Hillcrest Circle\, Gordonville\, TX\, 76245\, United States
CATEGORIES:Teaching
ATTACH;FMTTYPE=image/png:https://sherwoodshoreschapel.org/wp-content/uploads/2021/12/Wed-Night-Bible-Study.png
ORGANIZER;CN="The Chapel at Sherwood Shores":MAILTO:chapeloffice@sherwoodshoreschapel.org
END:VEVENT
BEGIN:VEVENT
DTSTART;TZID=UTC:20220501T180000
DTEND;TZID=UTC:20220501T190000
DTSTAMP:20260424T030932
CREATED:20211223T201108Z
LAST-MODIFIED:20211223T201108Z
UID:2353-1651428000-1651431600@sherwoodshoreschapel.org
SUMMARY:Sunday Evening Service
DESCRIPTION:
URL:https://sherwoodshoreschapel.org/index.php/event/sunday-evening-service-2022-05-01/
LOCATION:The Chapel\, 969 Hillcrest Circle\, Gordonville\, TX\, 76245\, United States
CATEGORIES:Teaching
ATTACH;FMTTYPE=image/jpeg:https://sherwoodshoreschapel.org/wp-content/uploads/2021/12/page-bible-studies.jpg
ORGANIZER;CN="The Chapel at Sherwood Shores":MAILTO:chapeloffice@sherwoodshoreschapel.org
END:VEVENT
BEGIN:VEVENT
DTSTART;TZID=UTC:20220501T103000
DTEND;TZID=UTC:20220501T113000
DTSTAMP:20260424T030932
CREATED:20200412T214002Z
LAST-MODIFIED:20211223T202204Z
UID:1996-1651401000-1651404600@sherwoodshoreschapel.org
SUMMARY:Sunday Worship Service
DESCRIPTION:Come worship with us.
URL:https://sherwoodshoreschapel.org/index.php/event/sunday-worship-service-2022-05-01/
LOCATION:The Chapel\, 969 Hillcrest Circle\, Gordonville\, TX\, 76245\, United States
CATEGORIES:Sunday Morning Worship Service
ATTACH;FMTTYPE=image/png:https://sherwoodshoreschapel.org/wp-content/uploads/2020/04/sunday-sermon.png
ORGANIZER;CN="The Chapel at Sherwood Shores":MAILTO:chapeloffice@sherwoodshoreschapel.org
END:VEVENT
BEGIN:VEVENT
DTSTART;TZID=UTC:20220427T180000
DTEND;TZID=UTC:20220427T190000
DTSTAMP:20260424T030932
CREATED:20211223T200324Z
LAST-MODIFIED:20211224T154230Z
UID:2293-1651082400-1651086000@sherwoodshoreschapel.org
SUMMARY:Wednesday Evening Bible Study
DESCRIPTION:
URL:https://sherwoodshoreschapel.org/index.php/event/wednesday-evening-bible-study-2022-04-27/
LOCATION:The Chapel\, 969 Hillcrest Circle\, Gordonville\, TX\, 76245\, United States
CATEGORIES:Teaching
ATTACH;FMTTYPE=image/png:https://sherwoodshoreschapel.org/wp-content/uploads/2021/12/Wed-Night-Bible-Study.png
ORGANIZER;CN="The Chapel at Sherwood Shores":MAILTO:chapeloffice@sherwoodshoreschapel.org
END:VEVENT
BEGIN:VEVENT
DTSTART;TZID=UTC:20220424T180000
DTEND;TZID=UTC:20220424T190000
DTSTAMP:20260424T030932
CREATED:20211223T201108Z
LAST-MODIFIED:20211223T201108Z
UID:2352-1650823200-1650826800@sherwoodshoreschapel.org
SUMMARY:Sunday Evening Service
DESCRIPTION:
URL:https://sherwoodshoreschapel.org/index.php/event/sunday-evening-service-2022-04-24/
LOCATION:The Chapel\, 969 Hillcrest Circle\, Gordonville\, TX\, 76245\, United States
CATEGORIES:Teaching
ATTACH;FMTTYPE=image/jpeg:https://sherwoodshoreschapel.org/wp-content/uploads/2021/12/page-bible-studies.jpg
ORGANIZER;CN="The Chapel at Sherwood Shores":MAILTO:chapeloffice@sherwoodshoreschapel.org
END:VEVENT
BEGIN:VEVENT
DTSTART;TZID=UTC:20220424T103000
DTEND;TZID=UTC:20220424T113000
DTSTAMP:20260424T030932
CREATED:20200412T214002Z
LAST-MODIFIED:20211223T202204Z
UID:1995-1650796200-1650799800@sherwoodshoreschapel.org
SUMMARY:Sunday Worship Service
DESCRIPTION:Come worship with us.
URL:https://sherwoodshoreschapel.org/index.php/event/sunday-worship-service-2022-04-24/
LOCATION:The Chapel\, 969 Hillcrest Circle\, Gordonville\, TX\, 76245\, United States
CATEGORIES:Sunday Morning Worship Service
ATTACH;FMTTYPE=image/png:https://sherwoodshoreschapel.org/wp-content/uploads/2020/04/sunday-sermon.png
ORGANIZER;CN="The Chapel at Sherwood Shores":MAILTO:chapeloffice@sherwoodshoreschapel.org
END:VEVENT
BEGIN:VEVENT
DTSTART;TZID=UTC:20220420T180000
DTEND;TZID=UTC:20220420T190000
DTSTAMP:20260424T030932
CREATED:20211223T200324Z
LAST-MODIFIED:20211224T154230Z
UID:2292-1650477600-1650481200@sherwoodshoreschapel.org
SUMMARY:Wednesday Evening Bible Study
DESCRIPTION:
URL:https://sherwoodshoreschapel.org/index.php/event/wednesday-evening-bible-study-2022-04-20/
LOCATION:The Chapel\, 969 Hillcrest Circle\, Gordonville\, TX\, 76245\, United States
CATEGORIES:Teaching
ATTACH;FMTTYPE=image/png:https://sherwoodshoreschapel.org/wp-content/uploads/2021/12/Wed-Night-Bible-Study.png
ORGANIZER;CN="The Chapel at Sherwood Shores":MAILTO:chapeloffice@sherwoodshoreschapel.org
END:VEVENT
END:VCALENDAR