BEGIN:VCALENDAR
VERSION:2.0
PRODID:-//The Chapel at Sherwood Shores - ECPv6.15.13.1//NONSGML v1.0//EN
CALSCALE:GREGORIAN
METHOD:PUBLISH
X-WR-CALNAME:The Chapel at Sherwood Shores
X-ORIGINAL-URL:https://sherwoodshoreschapel.org
X-WR-CALDESC:Events for The Chapel at Sherwood Shores
REFRESH-INTERVAL;VALUE=DURATION:PT1H
X-Robots-Tag:noindex
X-PUBLISHED-TTL:PT1H
BEGIN:VTIMEZONE
TZID:UTC
BEGIN:STANDARD
TZOFFSETFROM:+0000
TZOFFSETTO:+0000
TZNAME:UTC
DTSTART:20210101T000000
END:STANDARD
END:VTIMEZONE
BEGIN:VTIMEZONE
TZID:America/Mexico_City
BEGIN:DAYLIGHT
TZOFFSETFROM:-0600
TZOFFSETTO:-0500
TZNAME:CDT
DTSTART:20210404T080000
END:DAYLIGHT
BEGIN:STANDARD
TZOFFSETFROM:-0500
TZOFFSETTO:-0600
TZNAME:CST
DTSTART:20211031T070000
END:STANDARD
BEGIN:DAYLIGHT
TZOFFSETFROM:-0600
TZOFFSETTO:-0500
TZNAME:CDT
DTSTART:20220403T080000
END:DAYLIGHT
BEGIN:STANDARD
TZOFFSETFROM:-0500
TZOFFSETTO:-0600
TZNAME:CST
DTSTART:20221030T070000
END:STANDARD
END:VTIMEZONE
BEGIN:VEVENT
DTSTART;TZID=UTC:20220831T180000
DTEND;TZID=UTC:20220831T190000
DTSTAMP:20260423T221926
CREATED:20211223T200324Z
LAST-MODIFIED:20211224T154238Z
UID:2311-1661968800-1661972400@sherwoodshoreschapel.org
SUMMARY:Wednesday Evening Bible Study
DESCRIPTION:
URL:https://sherwoodshoreschapel.org/index.php/event/wednesday-evening-bible-study-2022-08-31/
LOCATION:The Chapel\, 969 Hillcrest Circle\, Gordonville\, TX\, 76245\, United States
CATEGORIES:Teaching
ATTACH;FMTTYPE=image/png:https://sherwoodshoreschapel.org/wp-content/uploads/2021/12/Wed-Night-Bible-Study.png
ORGANIZER;CN="The Chapel at Sherwood Shores":MAILTO:chapeloffice@sherwoodshoreschapel.org
END:VEVENT
BEGIN:VEVENT
DTSTART;TZID=UTC:20220828T180000
DTEND;TZID=UTC:20220828T190000
DTSTAMP:20260423T221926
CREATED:20211223T201108Z
LAST-MODIFIED:20211223T201108Z
UID:2370-1661709600-1661713200@sherwoodshoreschapel.org
SUMMARY:Sunday Evening Service
DESCRIPTION:
URL:https://sherwoodshoreschapel.org/index.php/event/sunday-evening-service-2022-08-28/
LOCATION:The Chapel\, 969 Hillcrest Circle\, Gordonville\, TX\, 76245\, United States
CATEGORIES:Teaching
ATTACH;FMTTYPE=image/jpeg:https://sherwoodshoreschapel.org/wp-content/uploads/2021/12/page-bible-studies.jpg
ORGANIZER;CN="The Chapel at Sherwood Shores":MAILTO:chapeloffice@sherwoodshoreschapel.org
END:VEVENT
BEGIN:VEVENT
DTSTART;TZID=UTC:20220828T103000
DTEND;TZID=UTC:20220828T113000
DTSTAMP:20260423T221926
CREATED:20200412T214002Z
LAST-MODIFIED:20211223T202211Z
UID:2013-1661682600-1661686200@sherwoodshoreschapel.org
SUMMARY:Sunday Worship Service
DESCRIPTION:Come worship with us.
URL:https://sherwoodshoreschapel.org/index.php/event/sunday-worship-service-2022-08-28/
LOCATION:The Chapel\, 969 Hillcrest Circle\, Gordonville\, TX\, 76245\, United States
CATEGORIES:Sunday Morning Worship Service
ATTACH;FMTTYPE=image/png:https://sherwoodshoreschapel.org/wp-content/uploads/2020/04/sunday-sermon.png
ORGANIZER;CN="The Chapel at Sherwood Shores":MAILTO:chapeloffice@sherwoodshoreschapel.org
END:VEVENT
BEGIN:VEVENT
DTSTART;TZID=UTC:20220824T180000
DTEND;TZID=UTC:20220824T190000
DTSTAMP:20260423T221926
CREATED:20211223T200324Z
LAST-MODIFIED:20211224T154238Z
UID:2310-1661364000-1661367600@sherwoodshoreschapel.org
SUMMARY:Wednesday Evening Bible Study
DESCRIPTION:
URL:https://sherwoodshoreschapel.org/index.php/event/wednesday-evening-bible-study-2022-08-24/
LOCATION:The Chapel\, 969 Hillcrest Circle\, Gordonville\, TX\, 76245\, United States
CATEGORIES:Teaching
ATTACH;FMTTYPE=image/png:https://sherwoodshoreschapel.org/wp-content/uploads/2021/12/Wed-Night-Bible-Study.png
ORGANIZER;CN="The Chapel at Sherwood Shores":MAILTO:chapeloffice@sherwoodshoreschapel.org
END:VEVENT
BEGIN:VEVENT
DTSTART;TZID=UTC:20220821T180000
DTEND;TZID=UTC:20220821T190000
DTSTAMP:20260423T221926
CREATED:20211223T201108Z
LAST-MODIFIED:20211223T201108Z
UID:2369-1661104800-1661108400@sherwoodshoreschapel.org
SUMMARY:Sunday Evening Service
DESCRIPTION:
URL:https://sherwoodshoreschapel.org/index.php/event/sunday-evening-service-2022-08-21/
LOCATION:The Chapel\, 969 Hillcrest Circle\, Gordonville\, TX\, 76245\, United States
CATEGORIES:Teaching
ATTACH;FMTTYPE=image/jpeg:https://sherwoodshoreschapel.org/wp-content/uploads/2021/12/page-bible-studies.jpg
ORGANIZER;CN="The Chapel at Sherwood Shores":MAILTO:chapeloffice@sherwoodshoreschapel.org
END:VEVENT
BEGIN:VEVENT
DTSTART;TZID=UTC:20220821T103000
DTEND;TZID=UTC:20220821T113000
DTSTAMP:20260423T221926
CREATED:20200412T214002Z
LAST-MODIFIED:20211223T202209Z
UID:2012-1661077800-1661081400@sherwoodshoreschapel.org
SUMMARY:Sunday Worship Service
DESCRIPTION:Come worship with us.
URL:https://sherwoodshoreschapel.org/index.php/event/sunday-worship-service-2022-08-21/
LOCATION:The Chapel\, 969 Hillcrest Circle\, Gordonville\, TX\, 76245\, United States
CATEGORIES:Sunday Morning Worship Service
ATTACH;FMTTYPE=image/png:https://sherwoodshoreschapel.org/wp-content/uploads/2020/04/sunday-sermon.png
ORGANIZER;CN="The Chapel at Sherwood Shores":MAILTO:chapeloffice@sherwoodshoreschapel.org
END:VEVENT
BEGIN:VEVENT
DTSTART;TZID=America/Mexico_City:20220820T100000
DTEND;TZID=America/Mexico_City:20220820T110000
DTSTAMP:20260423T221926
CREATED:20200412T120048Z
LAST-MODIFIED:20200412T120048Z
UID:2269-1660989600-1660993200@sherwoodshoreschapel.org
SUMMARY:Board of Elders Meeting
DESCRIPTION:We will meet in The Chapel Community Hall at 10:00 AM.
URL:https://sherwoodshoreschapel.org/index.php/event/elders_meeting-2022-08-20/
LOCATION:TX
CATEGORIES:Church Business
ATTACH;FMTTYPE=image/jpeg:https://sherwoodshoreschapel.org/wp-content/uploads/2016/12/elders_meeting.jpg
ORGANIZER;CN="Pastor Bobby Baker":MAILTO:pastor@sherwoodshoreschapel.org
END:VEVENT
BEGIN:VEVENT
DTSTART;TZID=UTC:20220817T180000
DTEND;TZID=UTC:20220817T190000
DTSTAMP:20260423T221926
CREATED:20211223T200324Z
LAST-MODIFIED:20211224T154238Z
UID:2309-1660759200-1660762800@sherwoodshoreschapel.org
SUMMARY:Wednesday Evening Bible Study
DESCRIPTION:
URL:https://sherwoodshoreschapel.org/index.php/event/wednesday-evening-bible-study-2022-08-17/
LOCATION:The Chapel\, 969 Hillcrest Circle\, Gordonville\, TX\, 76245\, United States
CATEGORIES:Teaching
ATTACH;FMTTYPE=image/png:https://sherwoodshoreschapel.org/wp-content/uploads/2021/12/Wed-Night-Bible-Study.png
ORGANIZER;CN="The Chapel at Sherwood Shores":MAILTO:chapeloffice@sherwoodshoreschapel.org
END:VEVENT
BEGIN:VEVENT
DTSTART;TZID=UTC:20220814T180000
DTEND;TZID=UTC:20220814T190000
DTSTAMP:20260423T221926
CREATED:20211223T201108Z
LAST-MODIFIED:20211223T201108Z
UID:2368-1660500000-1660503600@sherwoodshoreschapel.org
SUMMARY:Sunday Evening Service
DESCRIPTION:
URL:https://sherwoodshoreschapel.org/index.php/event/sunday-evening-service-2022-08-14/
LOCATION:The Chapel\, 969 Hillcrest Circle\, Gordonville\, TX\, 76245\, United States
CATEGORIES:Teaching
ATTACH;FMTTYPE=image/jpeg:https://sherwoodshoreschapel.org/wp-content/uploads/2021/12/page-bible-studies.jpg
ORGANIZER;CN="The Chapel at Sherwood Shores":MAILTO:chapeloffice@sherwoodshoreschapel.org
END:VEVENT
BEGIN:VEVENT
DTSTART;TZID=UTC:20220814T103000
DTEND;TZID=UTC:20220814T113000
DTSTAMP:20260423T221926
CREATED:20200412T214002Z
LAST-MODIFIED:20211223T202209Z
UID:2011-1660473000-1660476600@sherwoodshoreschapel.org
SUMMARY:Sunday Worship Service
DESCRIPTION:Come worship with us.
URL:https://sherwoodshoreschapel.org/index.php/event/sunday-worship-service-2022-08-14/
LOCATION:The Chapel\, 969 Hillcrest Circle\, Gordonville\, TX\, 76245\, United States
CATEGORIES:Sunday Morning Worship Service
ATTACH;FMTTYPE=image/png:https://sherwoodshoreschapel.org/wp-content/uploads/2020/04/sunday-sermon.png
ORGANIZER;CN="The Chapel at Sherwood Shores":MAILTO:chapeloffice@sherwoodshoreschapel.org
END:VEVENT
BEGIN:VEVENT
DTSTART;TZID=UTC:20220810T180000
DTEND;TZID=UTC:20220810T190000
DTSTAMP:20260423T221926
CREATED:20211223T200324Z
LAST-MODIFIED:20211224T154238Z
UID:2308-1660154400-1660158000@sherwoodshoreschapel.org
SUMMARY:Wednesday Evening Bible Study
DESCRIPTION:
URL:https://sherwoodshoreschapel.org/index.php/event/wednesday-evening-bible-study-2022-08-10/
LOCATION:The Chapel\, 969 Hillcrest Circle\, Gordonville\, TX\, 76245\, United States
CATEGORIES:Teaching
ATTACH;FMTTYPE=image/png:https://sherwoodshoreschapel.org/wp-content/uploads/2021/12/Wed-Night-Bible-Study.png
ORGANIZER;CN="The Chapel at Sherwood Shores":MAILTO:chapeloffice@sherwoodshoreschapel.org
END:VEVENT
BEGIN:VEVENT
DTSTART;TZID=America/Mexico_City:20220808T090000
DTEND;TZID=America/Mexico_City:20220808T100000
DTSTAMP:20260423T221926
CREATED:20200412T120003Z
LAST-MODIFIED:20211223T195736Z
UID:2218-1659949200-1659952800@sherwoodshoreschapel.org
SUMMARY:Board of Deacons Meeting
DESCRIPTION:We will meet in The Chapel Community Hall at 9:00 AM.
URL:https://sherwoodshoreschapel.org/index.php/event/speaking-the-gospel-with-clarity-2022-08-08/
LOCATION:TX
CATEGORIES:Church Business
ATTACH;FMTTYPE=image/png:https://sherwoodshoreschapel.org/wp-content/uploads/2016/12/deacons-meeting1.png
ORGANIZER;CN="Pastor Bobby Baker":MAILTO:pastor@sherwoodshoreschapel.org
END:VEVENT
BEGIN:VEVENT
DTSTART;TZID=UTC:20220807T180000
DTEND;TZID=UTC:20220807T190000
DTSTAMP:20260423T221926
CREATED:20211223T201108Z
LAST-MODIFIED:20211223T201108Z
UID:2367-1659895200-1659898800@sherwoodshoreschapel.org
SUMMARY:Sunday Evening Service
DESCRIPTION:
URL:https://sherwoodshoreschapel.org/index.php/event/sunday-evening-service-2022-08-07/
LOCATION:The Chapel\, 969 Hillcrest Circle\, Gordonville\, TX\, 76245\, United States
CATEGORIES:Teaching
ATTACH;FMTTYPE=image/jpeg:https://sherwoodshoreschapel.org/wp-content/uploads/2021/12/page-bible-studies.jpg
ORGANIZER;CN="The Chapel at Sherwood Shores":MAILTO:chapeloffice@sherwoodshoreschapel.org
END:VEVENT
BEGIN:VEVENT
DTSTART;TZID=UTC:20220807T103000
DTEND;TZID=UTC:20220807T113000
DTSTAMP:20260423T221926
CREATED:20200412T214002Z
LAST-MODIFIED:20211223T202209Z
UID:2010-1659868200-1659871800@sherwoodshoreschapel.org
SUMMARY:Sunday Worship Service
DESCRIPTION:Come worship with us.
URL:https://sherwoodshoreschapel.org/index.php/event/sunday-worship-service-2022-08-07/
LOCATION:The Chapel\, 969 Hillcrest Circle\, Gordonville\, TX\, 76245\, United States
CATEGORIES:Sunday Morning Worship Service
ATTACH;FMTTYPE=image/png:https://sherwoodshoreschapel.org/wp-content/uploads/2020/04/sunday-sermon.png
ORGANIZER;CN="The Chapel at Sherwood Shores":MAILTO:chapeloffice@sherwoodshoreschapel.org
END:VEVENT
BEGIN:VEVENT
DTSTART;TZID=UTC:20220803T180000
DTEND;TZID=UTC:20220803T190000
DTSTAMP:20260423T221926
CREATED:20211223T200324Z
LAST-MODIFIED:20211224T154237Z
UID:2307-1659549600-1659553200@sherwoodshoreschapel.org
SUMMARY:Wednesday Evening Bible Study
DESCRIPTION:
URL:https://sherwoodshoreschapel.org/index.php/event/wednesday-evening-bible-study-2022-08-03/
LOCATION:The Chapel\, 969 Hillcrest Circle\, Gordonville\, TX\, 76245\, United States
CATEGORIES:Teaching
ATTACH;FMTTYPE=image/png:https://sherwoodshoreschapel.org/wp-content/uploads/2021/12/Wed-Night-Bible-Study.png
ORGANIZER;CN="The Chapel at Sherwood Shores":MAILTO:chapeloffice@sherwoodshoreschapel.org
END:VEVENT
BEGIN:VEVENT
DTSTART;TZID=UTC:20220731T180000
DTEND;TZID=UTC:20220731T190000
DTSTAMP:20260423T221926
CREATED:20211223T201108Z
LAST-MODIFIED:20211223T201108Z
UID:2366-1659290400-1659294000@sherwoodshoreschapel.org
SUMMARY:Sunday Evening Service
DESCRIPTION:
URL:https://sherwoodshoreschapel.org/index.php/event/sunday-evening-service-2022-07-31/
LOCATION:The Chapel\, 969 Hillcrest Circle\, Gordonville\, TX\, 76245\, United States
CATEGORIES:Teaching
ATTACH;FMTTYPE=image/jpeg:https://sherwoodshoreschapel.org/wp-content/uploads/2021/12/page-bible-studies.jpg
ORGANIZER;CN="The Chapel at Sherwood Shores":MAILTO:chapeloffice@sherwoodshoreschapel.org
END:VEVENT
BEGIN:VEVENT
DTSTART;TZID=UTC:20220731T103000
DTEND;TZID=UTC:20220731T113000
DTSTAMP:20260423T221926
CREATED:20200412T214002Z
LAST-MODIFIED:20211223T202208Z
UID:2009-1659263400-1659267000@sherwoodshoreschapel.org
SUMMARY:Sunday Worship Service
DESCRIPTION:Come worship with us.
URL:https://sherwoodshoreschapel.org/index.php/event/sunday-worship-service-2022-07-31/
LOCATION:The Chapel\, 969 Hillcrest Circle\, Gordonville\, TX\, 76245\, United States
CATEGORIES:Sunday Morning Worship Service
ATTACH;FMTTYPE=image/png:https://sherwoodshoreschapel.org/wp-content/uploads/2020/04/sunday-sermon.png
ORGANIZER;CN="The Chapel at Sherwood Shores":MAILTO:chapeloffice@sherwoodshoreschapel.org
END:VEVENT
BEGIN:VEVENT
DTSTART;TZID=UTC:20220727T180000
DTEND;TZID=UTC:20220727T190000
DTSTAMP:20260423T221926
CREATED:20211223T200324Z
LAST-MODIFIED:20211224T154235Z
UID:2306-1658944800-1658948400@sherwoodshoreschapel.org
SUMMARY:Wednesday Evening Bible Study
DESCRIPTION:
URL:https://sherwoodshoreschapel.org/index.php/event/wednesday-evening-bible-study-2022-07-27/
LOCATION:The Chapel\, 969 Hillcrest Circle\, Gordonville\, TX\, 76245\, United States
CATEGORIES:Teaching
ATTACH;FMTTYPE=image/png:https://sherwoodshoreschapel.org/wp-content/uploads/2021/12/Wed-Night-Bible-Study.png
ORGANIZER;CN="The Chapel at Sherwood Shores":MAILTO:chapeloffice@sherwoodshoreschapel.org
END:VEVENT
BEGIN:VEVENT
DTSTART;TZID=UTC:20220724T180000
DTEND;TZID=UTC:20220724T190000
DTSTAMP:20260423T221926
CREATED:20211223T201108Z
LAST-MODIFIED:20211223T201108Z
UID:2365-1658685600-1658689200@sherwoodshoreschapel.org
SUMMARY:Sunday Evening Service
DESCRIPTION:
URL:https://sherwoodshoreschapel.org/index.php/event/sunday-evening-service-2022-07-24/
LOCATION:The Chapel\, 969 Hillcrest Circle\, Gordonville\, TX\, 76245\, United States
CATEGORIES:Teaching
ATTACH;FMTTYPE=image/jpeg:https://sherwoodshoreschapel.org/wp-content/uploads/2021/12/page-bible-studies.jpg
ORGANIZER;CN="The Chapel at Sherwood Shores":MAILTO:chapeloffice@sherwoodshoreschapel.org
END:VEVENT
BEGIN:VEVENT
DTSTART;TZID=UTC:20220724T103000
DTEND;TZID=UTC:20220724T113000
DTSTAMP:20260423T221926
CREATED:20200412T214002Z
LAST-MODIFIED:20211223T202208Z
UID:2008-1658658600-1658662200@sherwoodshoreschapel.org
SUMMARY:Sunday Worship Service
DESCRIPTION:Come worship with us.
URL:https://sherwoodshoreschapel.org/index.php/event/sunday-worship-service-2022-07-24/
LOCATION:The Chapel\, 969 Hillcrest Circle\, Gordonville\, TX\, 76245\, United States
CATEGORIES:Sunday Morning Worship Service
ATTACH;FMTTYPE=image/png:https://sherwoodshoreschapel.org/wp-content/uploads/2020/04/sunday-sermon.png
ORGANIZER;CN="The Chapel at Sherwood Shores":MAILTO:chapeloffice@sherwoodshoreschapel.org
END:VEVENT
BEGIN:VEVENT
DTSTART;TZID=UTC:20220720T180000
DTEND;TZID=UTC:20220720T190000
DTSTAMP:20260423T221926
CREATED:20211223T200324Z
LAST-MODIFIED:20211224T154235Z
UID:2305-1658340000-1658343600@sherwoodshoreschapel.org
SUMMARY:Wednesday Evening Bible Study
DESCRIPTION:
URL:https://sherwoodshoreschapel.org/index.php/event/wednesday-evening-bible-study-2022-07-20/
LOCATION:The Chapel\, 969 Hillcrest Circle\, Gordonville\, TX\, 76245\, United States
CATEGORIES:Teaching
ATTACH;FMTTYPE=image/png:https://sherwoodshoreschapel.org/wp-content/uploads/2021/12/Wed-Night-Bible-Study.png
ORGANIZER;CN="The Chapel at Sherwood Shores":MAILTO:chapeloffice@sherwoodshoreschapel.org
END:VEVENT
BEGIN:VEVENT
DTSTART;TZID=UTC:20220717T180000
DTEND;TZID=UTC:20220717T190000
DTSTAMP:20260423T221926
CREATED:20211223T201108Z
LAST-MODIFIED:20211223T201108Z
UID:2364-1658080800-1658084400@sherwoodshoreschapel.org
SUMMARY:Sunday Evening Service
DESCRIPTION:
URL:https://sherwoodshoreschapel.org/index.php/event/sunday-evening-service-2022-07-17/
LOCATION:The Chapel\, 969 Hillcrest Circle\, Gordonville\, TX\, 76245\, United States
CATEGORIES:Teaching
ATTACH;FMTTYPE=image/jpeg:https://sherwoodshoreschapel.org/wp-content/uploads/2021/12/page-bible-studies.jpg
ORGANIZER;CN="The Chapel at Sherwood Shores":MAILTO:chapeloffice@sherwoodshoreschapel.org
END:VEVENT
BEGIN:VEVENT
DTSTART;TZID=UTC:20220717T103000
DTEND;TZID=UTC:20220717T113000
DTSTAMP:20260423T221926
CREATED:20200412T214002Z
LAST-MODIFIED:20211223T202208Z
UID:2007-1658053800-1658057400@sherwoodshoreschapel.org
SUMMARY:Sunday Worship Service
DESCRIPTION:Come worship with us.
URL:https://sherwoodshoreschapel.org/index.php/event/sunday-worship-service-2022-07-17/
LOCATION:The Chapel\, 969 Hillcrest Circle\, Gordonville\, TX\, 76245\, United States
CATEGORIES:Sunday Morning Worship Service
ATTACH;FMTTYPE=image/png:https://sherwoodshoreschapel.org/wp-content/uploads/2020/04/sunday-sermon.png
ORGANIZER;CN="The Chapel at Sherwood Shores":MAILTO:chapeloffice@sherwoodshoreschapel.org
END:VEVENT
BEGIN:VEVENT
DTSTART;TZID=America/Mexico_City:20220716T100000
DTEND;TZID=America/Mexico_City:20220716T110000
DTSTAMP:20260423T221926
CREATED:20200412T120048Z
LAST-MODIFIED:20200412T120048Z
UID:2268-1657965600-1657969200@sherwoodshoreschapel.org
SUMMARY:Board of Elders Meeting
DESCRIPTION:We will meet in The Chapel Community Hall at 10:00 AM.
URL:https://sherwoodshoreschapel.org/index.php/event/elders_meeting-2022-07-16/
LOCATION:TX
CATEGORIES:Church Business
ATTACH;FMTTYPE=image/jpeg:https://sherwoodshoreschapel.org/wp-content/uploads/2016/12/elders_meeting.jpg
ORGANIZER;CN="Pastor Bobby Baker":MAILTO:pastor@sherwoodshoreschapel.org
END:VEVENT
BEGIN:VEVENT
DTSTART;TZID=UTC:20220713T180000
DTEND;TZID=UTC:20220713T190000
DTSTAMP:20260423T221926
CREATED:20211223T200324Z
LAST-MODIFIED:20211224T154235Z
UID:2304-1657735200-1657738800@sherwoodshoreschapel.org
SUMMARY:Wednesday Evening Bible Study
DESCRIPTION:
URL:https://sherwoodshoreschapel.org/index.php/event/wednesday-evening-bible-study-2022-07-13/
LOCATION:The Chapel\, 969 Hillcrest Circle\, Gordonville\, TX\, 76245\, United States
CATEGORIES:Teaching
ATTACH;FMTTYPE=image/png:https://sherwoodshoreschapel.org/wp-content/uploads/2021/12/Wed-Night-Bible-Study.png
ORGANIZER;CN="The Chapel at Sherwood Shores":MAILTO:chapeloffice@sherwoodshoreschapel.org
END:VEVENT
BEGIN:VEVENT
DTSTART;TZID=America/Mexico_City:20220711T090000
DTEND;TZID=America/Mexico_City:20220711T100000
DTSTAMP:20260423T221926
CREATED:20200412T120003Z
LAST-MODIFIED:20211223T195736Z
UID:2217-1657530000-1657533600@sherwoodshoreschapel.org
SUMMARY:Board of Deacons Meeting
DESCRIPTION:We will meet in The Chapel Community Hall at 9:00 AM.
URL:https://sherwoodshoreschapel.org/index.php/event/speaking-the-gospel-with-clarity-2022-07-11/
LOCATION:TX
CATEGORIES:Church Business
ATTACH;FMTTYPE=image/png:https://sherwoodshoreschapel.org/wp-content/uploads/2016/12/deacons-meeting1.png
ORGANIZER;CN="Pastor Bobby Baker":MAILTO:pastor@sherwoodshoreschapel.org
END:VEVENT
BEGIN:VEVENT
DTSTART;TZID=UTC:20220710T180000
DTEND;TZID=UTC:20220710T190000
DTSTAMP:20260423T221926
CREATED:20211223T201108Z
LAST-MODIFIED:20211223T201108Z
UID:2363-1657476000-1657479600@sherwoodshoreschapel.org
SUMMARY:Sunday Evening Service
DESCRIPTION:
URL:https://sherwoodshoreschapel.org/index.php/event/sunday-evening-service-2022-07-10/
LOCATION:The Chapel\, 969 Hillcrest Circle\, Gordonville\, TX\, 76245\, United States
CATEGORIES:Teaching
ATTACH;FMTTYPE=image/jpeg:https://sherwoodshoreschapel.org/wp-content/uploads/2021/12/page-bible-studies.jpg
ORGANIZER;CN="The Chapel at Sherwood Shores":MAILTO:chapeloffice@sherwoodshoreschapel.org
END:VEVENT
BEGIN:VEVENT
DTSTART;TZID=UTC:20220710T103000
DTEND;TZID=UTC:20220710T113000
DTSTAMP:20260423T221926
CREATED:20200412T214002Z
LAST-MODIFIED:20211223T202208Z
UID:2006-1657449000-1657452600@sherwoodshoreschapel.org
SUMMARY:Sunday Worship Service
DESCRIPTION:Come worship with us.
URL:https://sherwoodshoreschapel.org/index.php/event/sunday-worship-service-2022-07-10/
LOCATION:The Chapel\, 969 Hillcrest Circle\, Gordonville\, TX\, 76245\, United States
CATEGORIES:Sunday Morning Worship Service
ATTACH;FMTTYPE=image/png:https://sherwoodshoreschapel.org/wp-content/uploads/2020/04/sunday-sermon.png
ORGANIZER;CN="The Chapel at Sherwood Shores":MAILTO:chapeloffice@sherwoodshoreschapel.org
END:VEVENT
BEGIN:VEVENT
DTSTART;TZID=UTC:20220706T180000
DTEND;TZID=UTC:20220706T190000
DTSTAMP:20260423T221926
CREATED:20211223T200324Z
LAST-MODIFIED:20211224T154235Z
UID:2303-1657130400-1657134000@sherwoodshoreschapel.org
SUMMARY:Wednesday Evening Bible Study
DESCRIPTION:
URL:https://sherwoodshoreschapel.org/index.php/event/wednesday-evening-bible-study-2022-07-06/
LOCATION:The Chapel\, 969 Hillcrest Circle\, Gordonville\, TX\, 76245\, United States
CATEGORIES:Teaching
ATTACH;FMTTYPE=image/png:https://sherwoodshoreschapel.org/wp-content/uploads/2021/12/Wed-Night-Bible-Study.png
ORGANIZER;CN="The Chapel at Sherwood Shores":MAILTO:chapeloffice@sherwoodshoreschapel.org
END:VEVENT
BEGIN:VEVENT
DTSTART;TZID=UTC:20220703T180000
DTEND;TZID=UTC:20220703T190000
DTSTAMP:20260423T221926
CREATED:20211223T201108Z
LAST-MODIFIED:20211223T201108Z
UID:2362-1656871200-1656874800@sherwoodshoreschapel.org
SUMMARY:Sunday Evening Service
DESCRIPTION:
URL:https://sherwoodshoreschapel.org/index.php/event/sunday-evening-service-2022-07-03/
LOCATION:The Chapel\, 969 Hillcrest Circle\, Gordonville\, TX\, 76245\, United States
CATEGORIES:Teaching
ATTACH;FMTTYPE=image/jpeg:https://sherwoodshoreschapel.org/wp-content/uploads/2021/12/page-bible-studies.jpg
ORGANIZER;CN="The Chapel at Sherwood Shores":MAILTO:chapeloffice@sherwoodshoreschapel.org
END:VEVENT
END:VCALENDAR