BEGIN:VCALENDAR
VERSION:2.0
PRODID:-//The Chapel at Sherwood Shores - ECPv6.15.13.1//NONSGML v1.0//EN
CALSCALE:GREGORIAN
METHOD:PUBLISH
X-WR-CALNAME:The Chapel at Sherwood Shores
X-ORIGINAL-URL:https://sherwoodshoreschapel.org
X-WR-CALDESC:Events for The Chapel at Sherwood Shores
REFRESH-INTERVAL;VALUE=DURATION:PT1H
X-Robots-Tag:noindex
X-PUBLISHED-TTL:PT1H
BEGIN:VTIMEZONE
TZID:UTC
BEGIN:STANDARD
TZOFFSETFROM:+0000
TZOFFSETTO:+0000
TZNAME:UTC
DTSTART:20210101T000000
END:STANDARD
END:VTIMEZONE
BEGIN:VTIMEZONE
TZID:America/Mexico_City
BEGIN:DAYLIGHT
TZOFFSETFROM:-0600
TZOFFSETTO:-0500
TZNAME:CDT
DTSTART:20210404T080000
END:DAYLIGHT
BEGIN:STANDARD
TZOFFSETFROM:-0500
TZOFFSETTO:-0600
TZNAME:CST
DTSTART:20211031T070000
END:STANDARD
BEGIN:DAYLIGHT
TZOFFSETFROM:-0600
TZOFFSETTO:-0500
TZNAME:CDT
DTSTART:20220403T080000
END:DAYLIGHT
BEGIN:STANDARD
TZOFFSETFROM:-0500
TZOFFSETTO:-0600
TZNAME:CST
DTSTART:20221030T070000
END:STANDARD
END:VTIMEZONE
BEGIN:VEVENT
DTSTART;TZID=UTC:20221207T180000
DTEND;TZID=UTC:20221207T190000
DTSTAMP:20260423T161507
CREATED:20211223T200324Z
LAST-MODIFIED:20211224T154244Z
UID:2325-1670436000-1670439600@sherwoodshoreschapel.org
SUMMARY:Wednesday Evening Bible Study
DESCRIPTION:
URL:https://sherwoodshoreschapel.org/index.php/event/wednesday-evening-bible-study-2022-12-07/
LOCATION:The Chapel\, 969 Hillcrest Circle\, Gordonville\, TX\, 76245\, United States
CATEGORIES:Teaching
ATTACH;FMTTYPE=image/png:https://sherwoodshoreschapel.org/wp-content/uploads/2021/12/Wed-Night-Bible-Study.png
ORGANIZER;CN="The Chapel at Sherwood Shores":MAILTO:chapeloffice@sherwoodshoreschapel.org
END:VEVENT
BEGIN:VEVENT
DTSTART;TZID=UTC:20221204T180000
DTEND;TZID=UTC:20221204T190000
DTSTAMP:20260423T161507
CREATED:20211223T201108Z
LAST-MODIFIED:20211223T201108Z
UID:2384-1670176800-1670180400@sherwoodshoreschapel.org
SUMMARY:Sunday Evening Service
DESCRIPTION:
URL:https://sherwoodshoreschapel.org/index.php/event/sunday-evening-service-2022-12-04/
LOCATION:The Chapel\, 969 Hillcrest Circle\, Gordonville\, TX\, 76245\, United States
CATEGORIES:Teaching
ATTACH;FMTTYPE=image/jpeg:https://sherwoodshoreschapel.org/wp-content/uploads/2021/12/page-bible-studies.jpg
ORGANIZER;CN="The Chapel at Sherwood Shores":MAILTO:chapeloffice@sherwoodshoreschapel.org
END:VEVENT
BEGIN:VEVENT
DTSTART;TZID=UTC:20221204T103000
DTEND;TZID=UTC:20221204T113000
DTSTAMP:20260423T161507
CREATED:20200412T214002Z
LAST-MODIFIED:20211223T202217Z
UID:2027-1670149800-1670153400@sherwoodshoreschapel.org
SUMMARY:Sunday Worship Service
DESCRIPTION:Come worship with us.
URL:https://sherwoodshoreschapel.org/index.php/event/sunday-worship-service-2022-12-04/
LOCATION:The Chapel\, 969 Hillcrest Circle\, Gordonville\, TX\, 76245\, United States
CATEGORIES:Sunday Morning Worship Service
ATTACH;FMTTYPE=image/png:https://sherwoodshoreschapel.org/wp-content/uploads/2020/04/sunday-sermon.png
ORGANIZER;CN="The Chapel at Sherwood Shores":MAILTO:chapeloffice@sherwoodshoreschapel.org
END:VEVENT
BEGIN:VEVENT
DTSTART;TZID=UTC:20221130T180000
DTEND;TZID=UTC:20221130T190000
DTSTAMP:20260423T161507
CREATED:20211223T200324Z
LAST-MODIFIED:20211224T154244Z
UID:2324-1669831200-1669834800@sherwoodshoreschapel.org
SUMMARY:Wednesday Evening Bible Study
DESCRIPTION:
URL:https://sherwoodshoreschapel.org/index.php/event/wednesday-evening-bible-study-2022-11-30/
LOCATION:The Chapel\, 969 Hillcrest Circle\, Gordonville\, TX\, 76245\, United States
CATEGORIES:Teaching
ATTACH;FMTTYPE=image/png:https://sherwoodshoreschapel.org/wp-content/uploads/2021/12/Wed-Night-Bible-Study.png
ORGANIZER;CN="The Chapel at Sherwood Shores":MAILTO:chapeloffice@sherwoodshoreschapel.org
END:VEVENT
BEGIN:VEVENT
DTSTART;TZID=UTC:20221127T180000
DTEND;TZID=UTC:20221127T190000
DTSTAMP:20260423T161507
CREATED:20211223T201108Z
LAST-MODIFIED:20211223T201108Z
UID:2383-1669572000-1669575600@sherwoodshoreschapel.org
SUMMARY:Sunday Evening Service
DESCRIPTION:
URL:https://sherwoodshoreschapel.org/index.php/event/sunday-evening-service-2022-11-27/
LOCATION:The Chapel\, 969 Hillcrest Circle\, Gordonville\, TX\, 76245\, United States
CATEGORIES:Teaching
ATTACH;FMTTYPE=image/jpeg:https://sherwoodshoreschapel.org/wp-content/uploads/2021/12/page-bible-studies.jpg
ORGANIZER;CN="The Chapel at Sherwood Shores":MAILTO:chapeloffice@sherwoodshoreschapel.org
END:VEVENT
BEGIN:VEVENT
DTSTART;TZID=UTC:20221127T103000
DTEND;TZID=UTC:20221127T113000
DTSTAMP:20260423T161507
CREATED:20200412T214002Z
LAST-MODIFIED:20211223T202217Z
UID:2026-1669545000-1669548600@sherwoodshoreschapel.org
SUMMARY:Sunday Worship Service
DESCRIPTION:Come worship with us.
URL:https://sherwoodshoreschapel.org/index.php/event/sunday-worship-service-2022-11-27/
LOCATION:The Chapel\, 969 Hillcrest Circle\, Gordonville\, TX\, 76245\, United States
CATEGORIES:Sunday Morning Worship Service
ATTACH;FMTTYPE=image/png:https://sherwoodshoreschapel.org/wp-content/uploads/2020/04/sunday-sermon.png
ORGANIZER;CN="The Chapel at Sherwood Shores":MAILTO:chapeloffice@sherwoodshoreschapel.org
END:VEVENT
BEGIN:VEVENT
DTSTART;TZID=UTC:20221123T180000
DTEND;TZID=UTC:20221123T190000
DTSTAMP:20260423T161507
CREATED:20211223T200324Z
LAST-MODIFIED:20211224T154243Z
UID:2323-1669226400-1669230000@sherwoodshoreschapel.org
SUMMARY:Wednesday Evening Bible Study
DESCRIPTION:
URL:https://sherwoodshoreschapel.org/index.php/event/wednesday-evening-bible-study-2022-11-23/
LOCATION:The Chapel\, 969 Hillcrest Circle\, Gordonville\, TX\, 76245\, United States
CATEGORIES:Teaching
ATTACH;FMTTYPE=image/png:https://sherwoodshoreschapel.org/wp-content/uploads/2021/12/Wed-Night-Bible-Study.png
ORGANIZER;CN="The Chapel at Sherwood Shores":MAILTO:chapeloffice@sherwoodshoreschapel.org
END:VEVENT
BEGIN:VEVENT
DTSTART;TZID=UTC:20221120T180000
DTEND;TZID=UTC:20221120T190000
DTSTAMP:20260423T161507
CREATED:20211223T201108Z
LAST-MODIFIED:20211223T201108Z
UID:2382-1668967200-1668970800@sherwoodshoreschapel.org
SUMMARY:Sunday Evening Service
DESCRIPTION:
URL:https://sherwoodshoreschapel.org/index.php/event/sunday-evening-service-2022-11-20/
LOCATION:The Chapel\, 969 Hillcrest Circle\, Gordonville\, TX\, 76245\, United States
CATEGORIES:Teaching
ATTACH;FMTTYPE=image/jpeg:https://sherwoodshoreschapel.org/wp-content/uploads/2021/12/page-bible-studies.jpg
ORGANIZER;CN="The Chapel at Sherwood Shores":MAILTO:chapeloffice@sherwoodshoreschapel.org
END:VEVENT
BEGIN:VEVENT
DTSTART;TZID=UTC:20221120T103000
DTEND;TZID=UTC:20221120T113000
DTSTAMP:20260423T161507
CREATED:20200412T214002Z
LAST-MODIFIED:20211223T202217Z
UID:2025-1668940200-1668943800@sherwoodshoreschapel.org
SUMMARY:Sunday Worship Service
DESCRIPTION:Come worship with us.
URL:https://sherwoodshoreschapel.org/index.php/event/sunday-worship-service-2022-11-20/
LOCATION:The Chapel\, 969 Hillcrest Circle\, Gordonville\, TX\, 76245\, United States
CATEGORIES:Sunday Morning Worship Service
ATTACH;FMTTYPE=image/png:https://sherwoodshoreschapel.org/wp-content/uploads/2020/04/sunday-sermon.png
ORGANIZER;CN="The Chapel at Sherwood Shores":MAILTO:chapeloffice@sherwoodshoreschapel.org
END:VEVENT
BEGIN:VEVENT
DTSTART;TZID=America/Mexico_City:20221119T100000
DTEND;TZID=America/Mexico_City:20221119T110000
DTSTAMP:20260423T161507
CREATED:20200412T120048Z
LAST-MODIFIED:20200412T120048Z
UID:2272-1668852000-1668855600@sherwoodshoreschapel.org
SUMMARY:Board of Elders Meeting
DESCRIPTION:We will meet in The Chapel Community Hall at 10:00 AM.
URL:https://sherwoodshoreschapel.org/index.php/event/elders_meeting-2022-11-19/
LOCATION:TX
CATEGORIES:Church Business
ATTACH;FMTTYPE=image/jpeg:https://sherwoodshoreschapel.org/wp-content/uploads/2016/12/elders_meeting.jpg
ORGANIZER;CN="Pastor Bobby Baker":MAILTO:pastor@sherwoodshoreschapel.org
END:VEVENT
BEGIN:VEVENT
DTSTART;TZID=UTC:20221116T180000
DTEND;TZID=UTC:20221116T190000
DTSTAMP:20260423T161507
CREATED:20211223T200324Z
LAST-MODIFIED:20211224T154243Z
UID:2322-1668621600-1668625200@sherwoodshoreschapel.org
SUMMARY:Wednesday Evening Bible Study
DESCRIPTION:
URL:https://sherwoodshoreschapel.org/index.php/event/wednesday-evening-bible-study-2022-11-16/
LOCATION:The Chapel\, 969 Hillcrest Circle\, Gordonville\, TX\, 76245\, United States
CATEGORIES:Teaching
ATTACH;FMTTYPE=image/png:https://sherwoodshoreschapel.org/wp-content/uploads/2021/12/Wed-Night-Bible-Study.png
ORGANIZER;CN="The Chapel at Sherwood Shores":MAILTO:chapeloffice@sherwoodshoreschapel.org
END:VEVENT
BEGIN:VEVENT
DTSTART;TZID=America/Mexico_City:20221114T090000
DTEND;TZID=America/Mexico_City:20221114T100000
DTSTAMP:20260423T161507
CREATED:20200412T120003Z
LAST-MODIFIED:20211223T195737Z
UID:2221-1668416400-1668420000@sherwoodshoreschapel.org
SUMMARY:Board of Deacons Meeting
DESCRIPTION:We will meet in The Chapel Community Hall at 9:00 AM.
URL:https://sherwoodshoreschapel.org/index.php/event/speaking-the-gospel-with-clarity-2022-11-14/
LOCATION:TX
CATEGORIES:Church Business
ATTACH;FMTTYPE=image/png:https://sherwoodshoreschapel.org/wp-content/uploads/2016/12/deacons-meeting1.png
ORGANIZER;CN="Pastor Bobby Baker":MAILTO:pastor@sherwoodshoreschapel.org
END:VEVENT
BEGIN:VEVENT
DTSTART;TZID=UTC:20221113T180000
DTEND;TZID=UTC:20221113T190000
DTSTAMP:20260423T161507
CREATED:20211223T201108Z
LAST-MODIFIED:20211223T201108Z
UID:2381-1668362400-1668366000@sherwoodshoreschapel.org
SUMMARY:Sunday Evening Service
DESCRIPTION:
URL:https://sherwoodshoreschapel.org/index.php/event/sunday-evening-service-2022-11-13/
LOCATION:The Chapel\, 969 Hillcrest Circle\, Gordonville\, TX\, 76245\, United States
CATEGORIES:Teaching
ATTACH;FMTTYPE=image/jpeg:https://sherwoodshoreschapel.org/wp-content/uploads/2021/12/page-bible-studies.jpg
ORGANIZER;CN="The Chapel at Sherwood Shores":MAILTO:chapeloffice@sherwoodshoreschapel.org
END:VEVENT
BEGIN:VEVENT
DTSTART;TZID=UTC:20221113T103000
DTEND;TZID=UTC:20221113T113000
DTSTAMP:20260423T161507
CREATED:20200412T214002Z
LAST-MODIFIED:20211223T202216Z
UID:2024-1668335400-1668339000@sherwoodshoreschapel.org
SUMMARY:Sunday Worship Service
DESCRIPTION:Come worship with us.
URL:https://sherwoodshoreschapel.org/index.php/event/sunday-worship-service-2022-11-13/
LOCATION:The Chapel\, 969 Hillcrest Circle\, Gordonville\, TX\, 76245\, United States
CATEGORIES:Sunday Morning Worship Service
ATTACH;FMTTYPE=image/png:https://sherwoodshoreschapel.org/wp-content/uploads/2020/04/sunday-sermon.png
ORGANIZER;CN="The Chapel at Sherwood Shores":MAILTO:chapeloffice@sherwoodshoreschapel.org
END:VEVENT
BEGIN:VEVENT
DTSTART;TZID=UTC:20221109T180000
DTEND;TZID=UTC:20221109T190000
DTSTAMP:20260423T161507
CREATED:20211223T200324Z
LAST-MODIFIED:20211224T154243Z
UID:2321-1668016800-1668020400@sherwoodshoreschapel.org
SUMMARY:Wednesday Evening Bible Study
DESCRIPTION:
URL:https://sherwoodshoreschapel.org/index.php/event/wednesday-evening-bible-study-2022-11-09/
LOCATION:The Chapel\, 969 Hillcrest Circle\, Gordonville\, TX\, 76245\, United States
CATEGORIES:Teaching
ATTACH;FMTTYPE=image/png:https://sherwoodshoreschapel.org/wp-content/uploads/2021/12/Wed-Night-Bible-Study.png
ORGANIZER;CN="The Chapel at Sherwood Shores":MAILTO:chapeloffice@sherwoodshoreschapel.org
END:VEVENT
BEGIN:VEVENT
DTSTART;TZID=UTC:20221106T180000
DTEND;TZID=UTC:20221106T190000
DTSTAMP:20260423T161507
CREATED:20211223T201108Z
LAST-MODIFIED:20211223T201108Z
UID:2380-1667757600-1667761200@sherwoodshoreschapel.org
SUMMARY:Sunday Evening Service
DESCRIPTION:
URL:https://sherwoodshoreschapel.org/index.php/event/sunday-evening-service-2022-11-06/
LOCATION:The Chapel\, 969 Hillcrest Circle\, Gordonville\, TX\, 76245\, United States
CATEGORIES:Teaching
ATTACH;FMTTYPE=image/jpeg:https://sherwoodshoreschapel.org/wp-content/uploads/2021/12/page-bible-studies.jpg
ORGANIZER;CN="The Chapel at Sherwood Shores":MAILTO:chapeloffice@sherwoodshoreschapel.org
END:VEVENT
BEGIN:VEVENT
DTSTART;TZID=UTC:20221106T103000
DTEND;TZID=UTC:20221106T113000
DTSTAMP:20260423T161507
CREATED:20200412T214002Z
LAST-MODIFIED:20211223T202216Z
UID:2023-1667730600-1667734200@sherwoodshoreschapel.org
SUMMARY:Sunday Worship Service
DESCRIPTION:Come worship with us.
URL:https://sherwoodshoreschapel.org/index.php/event/sunday-worship-service-2022-11-06/
LOCATION:The Chapel\, 969 Hillcrest Circle\, Gordonville\, TX\, 76245\, United States
CATEGORIES:Sunday Morning Worship Service
ATTACH;FMTTYPE=image/png:https://sherwoodshoreschapel.org/wp-content/uploads/2020/04/sunday-sermon.png
ORGANIZER;CN="The Chapel at Sherwood Shores":MAILTO:chapeloffice@sherwoodshoreschapel.org
END:VEVENT
BEGIN:VEVENT
DTSTART;TZID=UTC:20221102T180000
DTEND;TZID=UTC:20221102T190000
DTSTAMP:20260423T161507
CREATED:20211223T200324Z
LAST-MODIFIED:20211224T154243Z
UID:2320-1667412000-1667415600@sherwoodshoreschapel.org
SUMMARY:Wednesday Evening Bible Study
DESCRIPTION:
URL:https://sherwoodshoreschapel.org/index.php/event/wednesday-evening-bible-study-2022-11-02/
LOCATION:The Chapel\, 969 Hillcrest Circle\, Gordonville\, TX\, 76245\, United States
CATEGORIES:Teaching
ATTACH;FMTTYPE=image/png:https://sherwoodshoreschapel.org/wp-content/uploads/2021/12/Wed-Night-Bible-Study.png
ORGANIZER;CN="The Chapel at Sherwood Shores":MAILTO:chapeloffice@sherwoodshoreschapel.org
END:VEVENT
BEGIN:VEVENT
DTSTART;TZID=UTC:20221030T180000
DTEND;TZID=UTC:20221030T190000
DTSTAMP:20260423T161507
CREATED:20211223T201108Z
LAST-MODIFIED:20211223T201108Z
UID:2379-1667152800-1667156400@sherwoodshoreschapel.org
SUMMARY:Sunday Evening Service
DESCRIPTION:
URL:https://sherwoodshoreschapel.org/index.php/event/sunday-evening-service-2022-10-30/
LOCATION:The Chapel\, 969 Hillcrest Circle\, Gordonville\, TX\, 76245\, United States
CATEGORIES:Teaching
ATTACH;FMTTYPE=image/jpeg:https://sherwoodshoreschapel.org/wp-content/uploads/2021/12/page-bible-studies.jpg
ORGANIZER;CN="The Chapel at Sherwood Shores":MAILTO:chapeloffice@sherwoodshoreschapel.org
END:VEVENT
BEGIN:VEVENT
DTSTART;TZID=UTC:20221030T103000
DTEND;TZID=UTC:20221030T113000
DTSTAMP:20260423T161507
CREATED:20200412T214002Z
LAST-MODIFIED:20211223T202213Z
UID:2022-1667125800-1667129400@sherwoodshoreschapel.org
SUMMARY:Sunday Worship Service
DESCRIPTION:Come worship with us.
URL:https://sherwoodshoreschapel.org/index.php/event/sunday-worship-service-2022-10-30/
LOCATION:The Chapel\, 969 Hillcrest Circle\, Gordonville\, TX\, 76245\, United States
CATEGORIES:Sunday Morning Worship Service
ATTACH;FMTTYPE=image/png:https://sherwoodshoreschapel.org/wp-content/uploads/2020/04/sunday-sermon.png
ORGANIZER;CN="The Chapel at Sherwood Shores":MAILTO:chapeloffice@sherwoodshoreschapel.org
END:VEVENT
BEGIN:VEVENT
DTSTART;TZID=UTC:20221026T180000
DTEND;TZID=UTC:20221026T190000
DTSTAMP:20260423T161507
CREATED:20211223T200324Z
LAST-MODIFIED:20211224T154242Z
UID:2319-1666807200-1666810800@sherwoodshoreschapel.org
SUMMARY:Wednesday Evening Bible Study
DESCRIPTION:
URL:https://sherwoodshoreschapel.org/index.php/event/wednesday-evening-bible-study-2022-10-26/
LOCATION:The Chapel\, 969 Hillcrest Circle\, Gordonville\, TX\, 76245\, United States
CATEGORIES:Teaching
ATTACH;FMTTYPE=image/png:https://sherwoodshoreschapel.org/wp-content/uploads/2021/12/Wed-Night-Bible-Study.png
ORGANIZER;CN="The Chapel at Sherwood Shores":MAILTO:chapeloffice@sherwoodshoreschapel.org
END:VEVENT
BEGIN:VEVENT
DTSTART;TZID=UTC:20221023T180000
DTEND;TZID=UTC:20221023T190000
DTSTAMP:20260423T161507
CREATED:20211223T201108Z
LAST-MODIFIED:20211223T201108Z
UID:2378-1666548000-1666551600@sherwoodshoreschapel.org
SUMMARY:Sunday Evening Service
DESCRIPTION:
URL:https://sherwoodshoreschapel.org/index.php/event/sunday-evening-service-2022-10-23/
LOCATION:The Chapel\, 969 Hillcrest Circle\, Gordonville\, TX\, 76245\, United States
CATEGORIES:Teaching
ATTACH;FMTTYPE=image/jpeg:https://sherwoodshoreschapel.org/wp-content/uploads/2021/12/page-bible-studies.jpg
ORGANIZER;CN="The Chapel at Sherwood Shores":MAILTO:chapeloffice@sherwoodshoreschapel.org
END:VEVENT
BEGIN:VEVENT
DTSTART;TZID=UTC:20221023T103000
DTEND;TZID=UTC:20221023T113000
DTSTAMP:20260423T161507
CREATED:20200412T214002Z
LAST-MODIFIED:20211223T202213Z
UID:2021-1666521000-1666524600@sherwoodshoreschapel.org
SUMMARY:Sunday Worship Service
DESCRIPTION:Come worship with us.
URL:https://sherwoodshoreschapel.org/index.php/event/sunday-worship-service-2022-10-23/
LOCATION:The Chapel\, 969 Hillcrest Circle\, Gordonville\, TX\, 76245\, United States
CATEGORIES:Sunday Morning Worship Service
ATTACH;FMTTYPE=image/png:https://sherwoodshoreschapel.org/wp-content/uploads/2020/04/sunday-sermon.png
ORGANIZER;CN="The Chapel at Sherwood Shores":MAILTO:chapeloffice@sherwoodshoreschapel.org
END:VEVENT
BEGIN:VEVENT
DTSTART;TZID=UTC:20221019T180000
DTEND;TZID=UTC:20221019T190000
DTSTAMP:20260423T161507
CREATED:20211223T200324Z
LAST-MODIFIED:20211224T154242Z
UID:2318-1666202400-1666206000@sherwoodshoreschapel.org
SUMMARY:Wednesday Evening Bible Study
DESCRIPTION:
URL:https://sherwoodshoreschapel.org/index.php/event/wednesday-evening-bible-study-2022-10-19/
LOCATION:The Chapel\, 969 Hillcrest Circle\, Gordonville\, TX\, 76245\, United States
CATEGORIES:Teaching
ATTACH;FMTTYPE=image/png:https://sherwoodshoreschapel.org/wp-content/uploads/2021/12/Wed-Night-Bible-Study.png
ORGANIZER;CN="The Chapel at Sherwood Shores":MAILTO:chapeloffice@sherwoodshoreschapel.org
END:VEVENT
BEGIN:VEVENT
DTSTART;TZID=UTC:20221016T180000
DTEND;TZID=UTC:20221016T190000
DTSTAMP:20260423T161507
CREATED:20211223T201108Z
LAST-MODIFIED:20211223T201108Z
UID:2377-1665943200-1665946800@sherwoodshoreschapel.org
SUMMARY:Sunday Evening Service
DESCRIPTION:
URL:https://sherwoodshoreschapel.org/index.php/event/sunday-evening-service-2022-10-16/
LOCATION:The Chapel\, 969 Hillcrest Circle\, Gordonville\, TX\, 76245\, United States
CATEGORIES:Teaching
ATTACH;FMTTYPE=image/jpeg:https://sherwoodshoreschapel.org/wp-content/uploads/2021/12/page-bible-studies.jpg
ORGANIZER;CN="The Chapel at Sherwood Shores":MAILTO:chapeloffice@sherwoodshoreschapel.org
END:VEVENT
BEGIN:VEVENT
DTSTART;TZID=UTC:20221016T103000
DTEND;TZID=UTC:20221016T113000
DTSTAMP:20260423T161507
CREATED:20200412T214002Z
LAST-MODIFIED:20211223T202213Z
UID:2020-1665916200-1665919800@sherwoodshoreschapel.org
SUMMARY:Sunday Worship Service
DESCRIPTION:Come worship with us.
URL:https://sherwoodshoreschapel.org/index.php/event/sunday-worship-service-2022-10-16/
LOCATION:The Chapel\, 969 Hillcrest Circle\, Gordonville\, TX\, 76245\, United States
CATEGORIES:Sunday Morning Worship Service
ATTACH;FMTTYPE=image/png:https://sherwoodshoreschapel.org/wp-content/uploads/2020/04/sunday-sermon.png
ORGANIZER;CN="The Chapel at Sherwood Shores":MAILTO:chapeloffice@sherwoodshoreschapel.org
END:VEVENT
BEGIN:VEVENT
DTSTART;TZID=America/Mexico_City:20221015T100000
DTEND;TZID=America/Mexico_City:20221015T110000
DTSTAMP:20260423T161507
CREATED:20200412T120048Z
LAST-MODIFIED:20200412T120048Z
UID:2271-1665828000-1665831600@sherwoodshoreschapel.org
SUMMARY:Board of Elders Meeting
DESCRIPTION:We will meet in The Chapel Community Hall at 10:00 AM.
URL:https://sherwoodshoreschapel.org/index.php/event/elders_meeting-2022-10-15/
LOCATION:TX
CATEGORIES:Church Business
ATTACH;FMTTYPE=image/jpeg:https://sherwoodshoreschapel.org/wp-content/uploads/2016/12/elders_meeting.jpg
ORGANIZER;CN="Pastor Bobby Baker":MAILTO:pastor@sherwoodshoreschapel.org
END:VEVENT
BEGIN:VEVENT
DTSTART;TZID=UTC:20221012T180000
DTEND;TZID=UTC:20221012T190000
DTSTAMP:20260423T161507
CREATED:20211223T200324Z
LAST-MODIFIED:20211224T154242Z
UID:2317-1665597600-1665601200@sherwoodshoreschapel.org
SUMMARY:Wednesday Evening Bible Study
DESCRIPTION:
URL:https://sherwoodshoreschapel.org/index.php/event/wednesday-evening-bible-study-2022-10-12/
LOCATION:The Chapel\, 969 Hillcrest Circle\, Gordonville\, TX\, 76245\, United States
CATEGORIES:Teaching
ATTACH;FMTTYPE=image/png:https://sherwoodshoreschapel.org/wp-content/uploads/2021/12/Wed-Night-Bible-Study.png
ORGANIZER;CN="The Chapel at Sherwood Shores":MAILTO:chapeloffice@sherwoodshoreschapel.org
END:VEVENT
BEGIN:VEVENT
DTSTART;TZID=America/Mexico_City:20221010T090000
DTEND;TZID=America/Mexico_City:20221010T100000
DTSTAMP:20260423T161507
CREATED:20200412T120003Z
LAST-MODIFIED:20211223T195737Z
UID:2220-1665392400-1665396000@sherwoodshoreschapel.org
SUMMARY:Board of Deacons Meeting
DESCRIPTION:We will meet in The Chapel Community Hall at 9:00 AM.
URL:https://sherwoodshoreschapel.org/index.php/event/speaking-the-gospel-with-clarity-2022-10-10/
LOCATION:TX
CATEGORIES:Church Business
ATTACH;FMTTYPE=image/png:https://sherwoodshoreschapel.org/wp-content/uploads/2016/12/deacons-meeting1.png
ORGANIZER;CN="Pastor Bobby Baker":MAILTO:pastor@sherwoodshoreschapel.org
END:VEVENT
BEGIN:VEVENT
DTSTART;TZID=UTC:20221009T180000
DTEND;TZID=UTC:20221009T190000
DTSTAMP:20260423T161507
CREATED:20211223T201108Z
LAST-MODIFIED:20211223T201108Z
UID:2376-1665338400-1665342000@sherwoodshoreschapel.org
SUMMARY:Sunday Evening Service
DESCRIPTION:
URL:https://sherwoodshoreschapel.org/index.php/event/sunday-evening-service-2022-10-09/
LOCATION:The Chapel\, 969 Hillcrest Circle\, Gordonville\, TX\, 76245\, United States
CATEGORIES:Teaching
ATTACH;FMTTYPE=image/jpeg:https://sherwoodshoreschapel.org/wp-content/uploads/2021/12/page-bible-studies.jpg
ORGANIZER;CN="The Chapel at Sherwood Shores":MAILTO:chapeloffice@sherwoodshoreschapel.org
END:VEVENT
END:VCALENDAR