BEGIN:VCALENDAR
VERSION:2.0
PRODID:-//The Chapel at Sherwood Shores - ECPv6.15.13.1//NONSGML v1.0//EN
CALSCALE:GREGORIAN
METHOD:PUBLISH
X-WR-CALNAME:The Chapel at Sherwood Shores
X-ORIGINAL-URL:https://sherwoodshoreschapel.org
X-WR-CALDESC:Events for The Chapel at Sherwood Shores
REFRESH-INTERVAL;VALUE=DURATION:PT1H
X-Robots-Tag:noindex
X-PUBLISHED-TTL:PT1H
BEGIN:VTIMEZONE
TZID:UTC
BEGIN:STANDARD
TZOFFSETFROM:+0000
TZOFFSETTO:+0000
TZNAME:UTC
DTSTART:20200101T000000
END:STANDARD
END:VTIMEZONE
BEGIN:VTIMEZONE
TZID:America/Mexico_City
BEGIN:DAYLIGHT
TZOFFSETFROM:-0600
TZOFFSETTO:-0500
TZNAME:CDT
DTSTART:20200405T080000
END:DAYLIGHT
BEGIN:STANDARD
TZOFFSETFROM:-0500
TZOFFSETTO:-0600
TZNAME:CST
DTSTART:20201025T070000
END:STANDARD
BEGIN:DAYLIGHT
TZOFFSETFROM:-0600
TZOFFSETTO:-0500
TZNAME:CDT
DTSTART:20210404T080000
END:DAYLIGHT
BEGIN:STANDARD
TZOFFSETFROM:-0500
TZOFFSETTO:-0600
TZNAME:CST
DTSTART:20211031T070000
END:STANDARD
BEGIN:DAYLIGHT
TZOFFSETFROM:-0600
TZOFFSETTO:-0500
TZNAME:CDT
DTSTART:20220403T080000
END:DAYLIGHT
BEGIN:STANDARD
TZOFFSETFROM:-0500
TZOFFSETTO:-0600
TZNAME:CST
DTSTART:20221030T070000
END:STANDARD
END:VTIMEZONE
BEGIN:VEVENT
DTSTART;TZID=UTC:20220123T180000
DTEND;TZID=UTC:20220123T190000
DTSTAMP:20260424T134528
CREATED:20211223T201108Z
LAST-MODIFIED:20211223T201108Z
UID:2339-1642960800-1642964400@sherwoodshoreschapel.org
SUMMARY:Sunday Evening Service
DESCRIPTION:
URL:https://sherwoodshoreschapel.org/index.php/event/sunday-evening-service-2022-01-23/
LOCATION:The Chapel\, 969 Hillcrest Circle\, Gordonville\, TX\, 76245\, United States
CATEGORIES:Teaching
ATTACH;FMTTYPE=image/jpeg:https://sherwoodshoreschapel.org/wp-content/uploads/2021/12/page-bible-studies.jpg
ORGANIZER;CN="The Chapel at Sherwood Shores":MAILTO:chapeloffice@sherwoodshoreschapel.org
END:VEVENT
BEGIN:VEVENT
DTSTART;TZID=UTC:20220123T103000
DTEND;TZID=UTC:20220123T113000
DTSTAMP:20260424T134528
CREATED:20200412T214002Z
LAST-MODIFIED:20211223T202157Z
UID:1982-1642933800-1642937400@sherwoodshoreschapel.org
SUMMARY:Sunday Worship Service
DESCRIPTION:Come worship with us.
URL:https://sherwoodshoreschapel.org/index.php/event/sunday-worship-service-2022-01-23/
LOCATION:The Chapel\, 969 Hillcrest Circle\, Gordonville\, TX\, 76245\, United States
CATEGORIES:Sunday Morning Worship Service
ATTACH;FMTTYPE=image/png:https://sherwoodshoreschapel.org/wp-content/uploads/2020/04/sunday-sermon.png
ORGANIZER;CN="The Chapel at Sherwood Shores":MAILTO:chapeloffice@sherwoodshoreschapel.org
END:VEVENT
BEGIN:VEVENT
DTSTART;TZID=UTC:20220119T180000
DTEND;TZID=UTC:20220119T190000
DTSTAMP:20260424T134528
CREATED:20211223T200324Z
LAST-MODIFIED:20211224T154220Z
UID:2279-1642615200-1642618800@sherwoodshoreschapel.org
SUMMARY:Wednesday Evening Bible Study
DESCRIPTION:
URL:https://sherwoodshoreschapel.org/index.php/event/wednesday-evening-bible-study-2022-01-19/
LOCATION:The Chapel\, 969 Hillcrest Circle\, Gordonville\, TX\, 76245\, United States
CATEGORIES:Teaching
ATTACH;FMTTYPE=image/png:https://sherwoodshoreschapel.org/wp-content/uploads/2021/12/Wed-Night-Bible-Study.png
ORGANIZER;CN="The Chapel at Sherwood Shores":MAILTO:chapeloffice@sherwoodshoreschapel.org
END:VEVENT
BEGIN:VEVENT
DTSTART;TZID=UTC:20220116T180000
DTEND;TZID=UTC:20220116T190000
DTSTAMP:20260424T134528
CREATED:20211223T201108Z
LAST-MODIFIED:20211223T201108Z
UID:2338-1642356000-1642359600@sherwoodshoreschapel.org
SUMMARY:Sunday Evening Service
DESCRIPTION:
URL:https://sherwoodshoreschapel.org/index.php/event/sunday-evening-service-2022-01-16/
LOCATION:The Chapel\, 969 Hillcrest Circle\, Gordonville\, TX\, 76245\, United States
CATEGORIES:Teaching
ATTACH;FMTTYPE=image/jpeg:https://sherwoodshoreschapel.org/wp-content/uploads/2021/12/page-bible-studies.jpg
ORGANIZER;CN="The Chapel at Sherwood Shores":MAILTO:chapeloffice@sherwoodshoreschapel.org
END:VEVENT
BEGIN:VEVENT
DTSTART;TZID=UTC:20220116T103000
DTEND;TZID=UTC:20220116T113000
DTSTAMP:20260424T134528
CREATED:20200412T214002Z
LAST-MODIFIED:20211223T202156Z
UID:1981-1642329000-1642332600@sherwoodshoreschapel.org
SUMMARY:Sunday Worship Service
DESCRIPTION:Come worship with us.
URL:https://sherwoodshoreschapel.org/index.php/event/sunday-worship-service-2022-01-16/
LOCATION:The Chapel\, 969 Hillcrest Circle\, Gordonville\, TX\, 76245\, United States
CATEGORIES:Sunday Morning Worship Service
ATTACH;FMTTYPE=image/png:https://sherwoodshoreschapel.org/wp-content/uploads/2020/04/sunday-sermon.png
ORGANIZER;CN="The Chapel at Sherwood Shores":MAILTO:chapeloffice@sherwoodshoreschapel.org
END:VEVENT
BEGIN:VEVENT
DTSTART;TZID=America/Mexico_City:20220115T100000
DTEND;TZID=America/Mexico_City:20220115T110000
DTSTAMP:20260424T134528
CREATED:20200412T120048Z
LAST-MODIFIED:20200412T120048Z
UID:2262-1642240800-1642244400@sherwoodshoreschapel.org
SUMMARY:Board of Elders Meeting
DESCRIPTION:We will meet in The Chapel Community Hall at 10:00 AM.
URL:https://sherwoodshoreschapel.org/index.php/event/elders_meeting-2022-01-15/
LOCATION:TX
CATEGORIES:Church Business
ATTACH;FMTTYPE=image/jpeg:https://sherwoodshoreschapel.org/wp-content/uploads/2016/12/elders_meeting.jpg
ORGANIZER;CN="Pastor Bobby Baker":MAILTO:pastor@sherwoodshoreschapel.org
END:VEVENT
BEGIN:VEVENT
DTSTART;TZID=UTC:20220112T180000
DTEND;TZID=UTC:20220112T190000
DTSTAMP:20260424T134528
CREATED:20211223T200324Z
LAST-MODIFIED:20211224T154220Z
UID:2278-1642010400-1642014000@sherwoodshoreschapel.org
SUMMARY:Wednesday Evening Bible Study
DESCRIPTION:
URL:https://sherwoodshoreschapel.org/index.php/event/wednesday-evening-bible-study-2022-01-12/
LOCATION:The Chapel\, 969 Hillcrest Circle\, Gordonville\, TX\, 76245\, United States
CATEGORIES:Teaching
ATTACH;FMTTYPE=image/png:https://sherwoodshoreschapel.org/wp-content/uploads/2021/12/Wed-Night-Bible-Study.png
ORGANIZER;CN="The Chapel at Sherwood Shores":MAILTO:chapeloffice@sherwoodshoreschapel.org
END:VEVENT
BEGIN:VEVENT
DTSTART;TZID=America/Mexico_City:20220110T090000
DTEND;TZID=America/Mexico_City:20220110T100000
DTSTAMP:20260424T134528
CREATED:20200412T120003Z
LAST-MODIFIED:20211223T195732Z
UID:2211-1641805200-1641808800@sherwoodshoreschapel.org
SUMMARY:Board of Deacons Meeting
DESCRIPTION:We will meet in The Chapel Community Hall at 9:00 AM.
URL:https://sherwoodshoreschapel.org/index.php/event/speaking-the-gospel-with-clarity-2022-01-10/
LOCATION:TX
CATEGORIES:Church Business
ATTACH;FMTTYPE=image/png:https://sherwoodshoreschapel.org/wp-content/uploads/2016/12/deacons-meeting1.png
ORGANIZER;CN="Pastor Bobby Baker":MAILTO:pastor@sherwoodshoreschapel.org
END:VEVENT
BEGIN:VEVENT
DTSTART;TZID=UTC:20220109T180000
DTEND;TZID=UTC:20220109T190000
DTSTAMP:20260424T134528
CREATED:20211223T201108Z
LAST-MODIFIED:20211223T201108Z
UID:2337-1641751200-1641754800@sherwoodshoreschapel.org
SUMMARY:Sunday Evening Service
DESCRIPTION:
URL:https://sherwoodshoreschapel.org/index.php/event/sunday-evening-service-2022-01-09/
LOCATION:The Chapel\, 969 Hillcrest Circle\, Gordonville\, TX\, 76245\, United States
CATEGORIES:Teaching
ATTACH;FMTTYPE=image/jpeg:https://sherwoodshoreschapel.org/wp-content/uploads/2021/12/page-bible-studies.jpg
ORGANIZER;CN="The Chapel at Sherwood Shores":MAILTO:chapeloffice@sherwoodshoreschapel.org
END:VEVENT
BEGIN:VEVENT
DTSTART;TZID=UTC:20220109T103000
DTEND;TZID=UTC:20220109T113000
DTSTAMP:20260424T134528
CREATED:20200412T214002Z
LAST-MODIFIED:20211223T202156Z
UID:1980-1641724200-1641727800@sherwoodshoreschapel.org
SUMMARY:Sunday Worship Service
DESCRIPTION:Come worship with us.
URL:https://sherwoodshoreschapel.org/index.php/event/sunday-worship-service-2022-01-09/
LOCATION:The Chapel\, 969 Hillcrest Circle\, Gordonville\, TX\, 76245\, United States
CATEGORIES:Sunday Morning Worship Service
ATTACH;FMTTYPE=image/png:https://sherwoodshoreschapel.org/wp-content/uploads/2020/04/sunday-sermon.png
ORGANIZER;CN="The Chapel at Sherwood Shores":MAILTO:chapeloffice@sherwoodshoreschapel.org
END:VEVENT
BEGIN:VEVENT
DTSTART;TZID=UTC:20220105T180000
DTEND;TZID=UTC:20220105T190000
DTSTAMP:20260424T134528
CREATED:20211223T200324Z
LAST-MODIFIED:20211224T154219Z
UID:2277-1641405600-1641409200@sherwoodshoreschapel.org
SUMMARY:Wednesday Evening Bible Study
DESCRIPTION:
URL:https://sherwoodshoreschapel.org/index.php/event/wednesday-evening-bible-study-2022-01-05/
LOCATION:The Chapel\, 969 Hillcrest Circle\, Gordonville\, TX\, 76245\, United States
CATEGORIES:Teaching
ATTACH;FMTTYPE=image/png:https://sherwoodshoreschapel.org/wp-content/uploads/2021/12/Wed-Night-Bible-Study.png
ORGANIZER;CN="The Chapel at Sherwood Shores":MAILTO:chapeloffice@sherwoodshoreschapel.org
END:VEVENT
BEGIN:VEVENT
DTSTART;TZID=UTC:20220102T180000
DTEND;TZID=UTC:20220102T190000
DTSTAMP:20260424T134528
CREATED:20211223T201108Z
LAST-MODIFIED:20211223T201108Z
UID:2336-1641146400-1641150000@sherwoodshoreschapel.org
SUMMARY:Sunday Evening Service
DESCRIPTION:
URL:https://sherwoodshoreschapel.org/index.php/event/sunday-evening-service-2022-01-02/
LOCATION:The Chapel\, 969 Hillcrest Circle\, Gordonville\, TX\, 76245\, United States
CATEGORIES:Teaching
ATTACH;FMTTYPE=image/jpeg:https://sherwoodshoreschapel.org/wp-content/uploads/2021/12/page-bible-studies.jpg
ORGANIZER;CN="The Chapel at Sherwood Shores":MAILTO:chapeloffice@sherwoodshoreschapel.org
END:VEVENT
BEGIN:VEVENT
DTSTART;TZID=UTC:20220102T103000
DTEND;TZID=UTC:20220102T113000
DTSTAMP:20260424T134528
CREATED:20200412T214002Z
LAST-MODIFIED:20211223T202156Z
UID:1979-1641119400-1641123000@sherwoodshoreschapel.org
SUMMARY:Sunday Worship Service
DESCRIPTION:Come worship with us.
URL:https://sherwoodshoreschapel.org/index.php/event/sunday-worship-service-2022-01-02/
LOCATION:The Chapel\, 969 Hillcrest Circle\, Gordonville\, TX\, 76245\, United States
CATEGORIES:Sunday Morning Worship Service
ATTACH;FMTTYPE=image/png:https://sherwoodshoreschapel.org/wp-content/uploads/2020/04/sunday-sermon.png
ORGANIZER;CN="The Chapel at Sherwood Shores":MAILTO:chapeloffice@sherwoodshoreschapel.org
END:VEVENT
BEGIN:VEVENT
DTSTART;TZID=UTC:20211229T180000
DTEND;TZID=UTC:20211229T190000
DTSTAMP:20260424T134528
CREATED:20211223T200324Z
LAST-MODIFIED:20211224T154219Z
UID:2274-1640800800-1640804400@sherwoodshoreschapel.org
SUMMARY:Wednesday Evening Bible Study
DESCRIPTION:
URL:https://sherwoodshoreschapel.org/index.php/event/wednesday-evening-bible-study/
LOCATION:The Chapel\, 969 Hillcrest Circle\, Gordonville\, TX\, 76245\, United States
CATEGORIES:Teaching
ATTACH;FMTTYPE=image/png:https://sherwoodshoreschapel.org/wp-content/uploads/2021/12/Wed-Night-Bible-Study.png
ORGANIZER;CN="The Chapel at Sherwood Shores":MAILTO:chapeloffice@sherwoodshoreschapel.org
END:VEVENT
BEGIN:VEVENT
DTSTART;TZID=UTC:20211226T180000
DTEND;TZID=UTC:20211226T190000
DTSTAMP:20260424T134528
CREATED:20211223T201108Z
LAST-MODIFIED:20211223T201108Z
UID:2330-1640541600-1640545200@sherwoodshoreschapel.org
SUMMARY:Sunday Evening Service
DESCRIPTION:
URL:https://sherwoodshoreschapel.org/index.php/event/sunday-evening-service/
LOCATION:The Chapel\, 969 Hillcrest Circle\, Gordonville\, TX\, 76245\, United States
CATEGORIES:Teaching
ATTACH;FMTTYPE=image/jpeg:https://sherwoodshoreschapel.org/wp-content/uploads/2021/12/page-bible-studies.jpg
ORGANIZER;CN="The Chapel at Sherwood Shores":MAILTO:chapeloffice@sherwoodshoreschapel.org
END:VEVENT
BEGIN:VEVENT
DTSTART;TZID=UTC:20211226T103000
DTEND;TZID=UTC:20211226T113000
DTSTAMP:20260424T134528
CREATED:20200412T214002Z
LAST-MODIFIED:20211223T202155Z
UID:1978-1640514600-1640518200@sherwoodshoreschapel.org
SUMMARY:Sunday Worship Service
DESCRIPTION:Come worship with us.
URL:https://sherwoodshoreschapel.org/index.php/event/sunday-worship-service-2021-12-26/
LOCATION:The Chapel\, 969 Hillcrest Circle\, Gordonville\, TX\, 76245\, United States
CATEGORIES:Sunday Morning Worship Service
ATTACH;FMTTYPE=image/png:https://sherwoodshoreschapel.org/wp-content/uploads/2020/04/sunday-sermon.png
ORGANIZER;CN="The Chapel at Sherwood Shores":MAILTO:chapeloffice@sherwoodshoreschapel.org
END:VEVENT
BEGIN:VEVENT
DTSTART;TZID=UTC:20211219T103000
DTEND;TZID=UTC:20211219T113000
DTSTAMP:20260424T134528
CREATED:20200412T214002Z
LAST-MODIFIED:20211223T202155Z
UID:1977-1639909800-1639913400@sherwoodshoreschapel.org
SUMMARY:Sunday Worship Service
DESCRIPTION:Come worship with us.
URL:https://sherwoodshoreschapel.org/index.php/event/sunday-worship-service-2021-12-19/
LOCATION:The Chapel\, 969 Hillcrest Circle\, Gordonville\, TX\, 76245\, United States
CATEGORIES:Sunday Morning Worship Service
ATTACH;FMTTYPE=image/png:https://sherwoodshoreschapel.org/wp-content/uploads/2020/04/sunday-sermon.png
ORGANIZER;CN="The Chapel at Sherwood Shores":MAILTO:chapeloffice@sherwoodshoreschapel.org
END:VEVENT
BEGIN:VEVENT
DTSTART;TZID=America/Mexico_City:20211218T100000
DTEND;TZID=America/Mexico_City:20211218T110000
DTSTAMP:20260424T134528
CREATED:20200412T120048Z
LAST-MODIFIED:20200412T120048Z
UID:2261-1639821600-1639825200@sherwoodshoreschapel.org
SUMMARY:Board of Elders Meeting
DESCRIPTION:We will meet in The Chapel Community Hall at 10:00 AM.
URL:https://sherwoodshoreschapel.org/index.php/event/elders_meeting-2021-12-18/
LOCATION:TX
CATEGORIES:Church Business
ATTACH;FMTTYPE=image/jpeg:https://sherwoodshoreschapel.org/wp-content/uploads/2016/12/elders_meeting.jpg
ORGANIZER;CN="Pastor Bobby Baker":MAILTO:pastor@sherwoodshoreschapel.org
END:VEVENT
BEGIN:VEVENT
DTSTART;TZID=America/Mexico_City:20211213T090000
DTEND;TZID=America/Mexico_City:20211213T100000
DTSTAMP:20260424T134528
CREATED:20200412T120003Z
LAST-MODIFIED:20211223T195732Z
UID:2210-1639386000-1639389600@sherwoodshoreschapel.org
SUMMARY:Board of Deacons Meeting
DESCRIPTION:We will meet in The Chapel Community Hall at 9:00 AM.
URL:https://sherwoodshoreschapel.org/index.php/event/speaking-the-gospel-with-clarity-2021-12-13/
LOCATION:TX
CATEGORIES:Church Business
ATTACH;FMTTYPE=image/png:https://sherwoodshoreschapel.org/wp-content/uploads/2016/12/deacons-meeting1.png
ORGANIZER;CN="Pastor Bobby Baker":MAILTO:pastor@sherwoodshoreschapel.org
END:VEVENT
BEGIN:VEVENT
DTSTART;TZID=UTC:20211212T103000
DTEND;TZID=UTC:20211212T113000
DTSTAMP:20260424T134528
CREATED:20200412T214002Z
LAST-MODIFIED:20211223T202154Z
UID:1976-1639305000-1639308600@sherwoodshoreschapel.org
SUMMARY:Sunday Worship Service
DESCRIPTION:Come worship with us.
URL:https://sherwoodshoreschapel.org/index.php/event/sunday-worship-service-2021-12-12/
LOCATION:The Chapel\, 969 Hillcrest Circle\, Gordonville\, TX\, 76245\, United States
CATEGORIES:Sunday Morning Worship Service
ATTACH;FMTTYPE=image/png:https://sherwoodshoreschapel.org/wp-content/uploads/2020/04/sunday-sermon.png
ORGANIZER;CN="The Chapel at Sherwood Shores":MAILTO:chapeloffice@sherwoodshoreschapel.org
END:VEVENT
BEGIN:VEVENT
DTSTART;TZID=UTC:20211205T103000
DTEND;TZID=UTC:20211205T113000
DTSTAMP:20260424T134528
CREATED:20200412T214002Z
LAST-MODIFIED:20211223T202154Z
UID:1975-1638700200-1638703800@sherwoodshoreschapel.org
SUMMARY:Sunday Worship Service
DESCRIPTION:Come worship with us.
URL:https://sherwoodshoreschapel.org/index.php/event/sunday-worship-service-2021-12-05/
LOCATION:The Chapel\, 969 Hillcrest Circle\, Gordonville\, TX\, 76245\, United States
CATEGORIES:Sunday Morning Worship Service
ATTACH;FMTTYPE=image/png:https://sherwoodshoreschapel.org/wp-content/uploads/2020/04/sunday-sermon.png
ORGANIZER;CN="The Chapel at Sherwood Shores":MAILTO:chapeloffice@sherwoodshoreschapel.org
END:VEVENT
BEGIN:VEVENT
DTSTART;TZID=UTC:20211128T103000
DTEND;TZID=UTC:20211128T113000
DTSTAMP:20260424T134528
CREATED:20200412T214002Z
LAST-MODIFIED:20211223T202154Z
UID:1974-1638095400-1638099000@sherwoodshoreschapel.org
SUMMARY:Sunday Worship Service
DESCRIPTION:Come worship with us.
URL:https://sherwoodshoreschapel.org/index.php/event/sunday-worship-service-2021-11-28/
LOCATION:The Chapel\, 969 Hillcrest Circle\, Gordonville\, TX\, 76245\, United States
CATEGORIES:Sunday Morning Worship Service
ATTACH;FMTTYPE=image/png:https://sherwoodshoreschapel.org/wp-content/uploads/2020/04/sunday-sermon.png
ORGANIZER;CN="The Chapel at Sherwood Shores":MAILTO:chapeloffice@sherwoodshoreschapel.org
END:VEVENT
BEGIN:VEVENT
DTSTART;TZID=UTC:20211121T103000
DTEND;TZID=UTC:20211121T113000
DTSTAMP:20260424T134528
CREATED:20200412T214002Z
LAST-MODIFIED:20211223T202153Z
UID:1973-1637490600-1637494200@sherwoodshoreschapel.org
SUMMARY:Sunday Worship Service
DESCRIPTION:Come worship with us.
URL:https://sherwoodshoreschapel.org/index.php/event/sunday-worship-service-2021-11-21/
LOCATION:The Chapel\, 969 Hillcrest Circle\, Gordonville\, TX\, 76245\, United States
CATEGORIES:Sunday Morning Worship Service
ATTACH;FMTTYPE=image/png:https://sherwoodshoreschapel.org/wp-content/uploads/2020/04/sunday-sermon.png
ORGANIZER;CN="The Chapel at Sherwood Shores":MAILTO:chapeloffice@sherwoodshoreschapel.org
END:VEVENT
BEGIN:VEVENT
DTSTART;TZID=America/Mexico_City:20211120T100000
DTEND;TZID=America/Mexico_City:20211120T110000
DTSTAMP:20260424T134528
CREATED:20200412T120048Z
LAST-MODIFIED:20200412T120048Z
UID:2260-1637402400-1637406000@sherwoodshoreschapel.org
SUMMARY:Board of Elders Meeting
DESCRIPTION:We will meet in The Chapel Community Hall at 10:00 AM.
URL:https://sherwoodshoreschapel.org/index.php/event/elders_meeting-2021-11-20/
LOCATION:TX
CATEGORIES:Church Business
ATTACH;FMTTYPE=image/jpeg:https://sherwoodshoreschapel.org/wp-content/uploads/2016/12/elders_meeting.jpg
ORGANIZER;CN="Pastor Bobby Baker":MAILTO:pastor@sherwoodshoreschapel.org
END:VEVENT
BEGIN:VEVENT
DTSTART;TZID=UTC:20211114T103000
DTEND;TZID=UTC:20211114T113000
DTSTAMP:20260424T134528
CREATED:20200412T214002Z
LAST-MODIFIED:20211223T202152Z
UID:1972-1636885800-1636889400@sherwoodshoreschapel.org
SUMMARY:Sunday Worship Service
DESCRIPTION:Come worship with us.
URL:https://sherwoodshoreschapel.org/index.php/event/sunday-worship-service-2021-11-14/
LOCATION:The Chapel\, 969 Hillcrest Circle\, Gordonville\, TX\, 76245\, United States
CATEGORIES:Sunday Morning Worship Service
ATTACH;FMTTYPE=image/png:https://sherwoodshoreschapel.org/wp-content/uploads/2020/04/sunday-sermon.png
ORGANIZER;CN="The Chapel at Sherwood Shores":MAILTO:chapeloffice@sherwoodshoreschapel.org
END:VEVENT
BEGIN:VEVENT
DTSTART;TZID=America/Mexico_City:20211108T090000
DTEND;TZID=America/Mexico_City:20211108T100000
DTSTAMP:20260424T134528
CREATED:20200412T120003Z
LAST-MODIFIED:20211223T195732Z
UID:2209-1636362000-1636365600@sherwoodshoreschapel.org
SUMMARY:Board of Deacons Meeting
DESCRIPTION:We will meet in The Chapel Community Hall at 9:00 AM.
URL:https://sherwoodshoreschapel.org/index.php/event/speaking-the-gospel-with-clarity-2021-11-08/
LOCATION:TX
CATEGORIES:Church Business
ATTACH;FMTTYPE=image/png:https://sherwoodshoreschapel.org/wp-content/uploads/2016/12/deacons-meeting1.png
ORGANIZER;CN="Pastor Bobby Baker":MAILTO:pastor@sherwoodshoreschapel.org
END:VEVENT
BEGIN:VEVENT
DTSTART;TZID=UTC:20211107T103000
DTEND;TZID=UTC:20211107T113000
DTSTAMP:20260424T134528
CREATED:20200412T214002Z
LAST-MODIFIED:20211223T202151Z
UID:1971-1636281000-1636284600@sherwoodshoreschapel.org
SUMMARY:Sunday Worship Service
DESCRIPTION:Come worship with us.
URL:https://sherwoodshoreschapel.org/index.php/event/sunday-worship-service-2021-11-07/
LOCATION:The Chapel\, 969 Hillcrest Circle\, Gordonville\, TX\, 76245\, United States
CATEGORIES:Sunday Morning Worship Service
ATTACH;FMTTYPE=image/png:https://sherwoodshoreschapel.org/wp-content/uploads/2020/04/sunday-sermon.png
ORGANIZER;CN="The Chapel at Sherwood Shores":MAILTO:chapeloffice@sherwoodshoreschapel.org
END:VEVENT
BEGIN:VEVENT
DTSTART;TZID=UTC:20211031T103000
DTEND;TZID=UTC:20211031T113000
DTSTAMP:20260424T134528
CREATED:20200412T214002Z
LAST-MODIFIED:20211223T202151Z
UID:1970-1635676200-1635679800@sherwoodshoreschapel.org
SUMMARY:Sunday Worship Service
DESCRIPTION:Come worship with us.
URL:https://sherwoodshoreschapel.org/index.php/event/sunday-worship-service-2021-10-31/
LOCATION:The Chapel\, 969 Hillcrest Circle\, Gordonville\, TX\, 76245\, United States
CATEGORIES:Sunday Morning Worship Service
ATTACH;FMTTYPE=image/png:https://sherwoodshoreschapel.org/wp-content/uploads/2020/04/sunday-sermon.png
ORGANIZER;CN="The Chapel at Sherwood Shores":MAILTO:chapeloffice@sherwoodshoreschapel.org
END:VEVENT
BEGIN:VEVENT
DTSTART;TZID=UTC:20211024T103000
DTEND;TZID=UTC:20211024T113000
DTSTAMP:20260424T134528
CREATED:20200412T214002Z
LAST-MODIFIED:20211223T202151Z
UID:1969-1635071400-1635075000@sherwoodshoreschapel.org
SUMMARY:Sunday Worship Service
DESCRIPTION:Come worship with us.
URL:https://sherwoodshoreschapel.org/index.php/event/sunday-worship-service-2021-10-24/
LOCATION:The Chapel\, 969 Hillcrest Circle\, Gordonville\, TX\, 76245\, United States
CATEGORIES:Sunday Morning Worship Service
ATTACH;FMTTYPE=image/png:https://sherwoodshoreschapel.org/wp-content/uploads/2020/04/sunday-sermon.png
ORGANIZER;CN="The Chapel at Sherwood Shores":MAILTO:chapeloffice@sherwoodshoreschapel.org
END:VEVENT
BEGIN:VEVENT
DTSTART;TZID=UTC:20211017T103000
DTEND;TZID=UTC:20211017T113000
DTSTAMP:20260424T134528
CREATED:20200412T214002Z
LAST-MODIFIED:20211223T202151Z
UID:1968-1634466600-1634470200@sherwoodshoreschapel.org
SUMMARY:Sunday Worship Service
DESCRIPTION:Come worship with us.
URL:https://sherwoodshoreschapel.org/index.php/event/sunday-worship-service-2021-10-17/
LOCATION:The Chapel\, 969 Hillcrest Circle\, Gordonville\, TX\, 76245\, United States
CATEGORIES:Sunday Morning Worship Service
ATTACH;FMTTYPE=image/png:https://sherwoodshoreschapel.org/wp-content/uploads/2020/04/sunday-sermon.png
ORGANIZER;CN="The Chapel at Sherwood Shores":MAILTO:chapeloffice@sherwoodshoreschapel.org
END:VEVENT
END:VCALENDAR