BEGIN:VCALENDAR
VERSION:2.0
PRODID:-//The Chapel at Sherwood Shores - ECPv6.15.13.1//NONSGML v1.0//EN
CALSCALE:GREGORIAN
METHOD:PUBLISH
X-WR-CALNAME:The Chapel at Sherwood Shores
X-ORIGINAL-URL:https://sherwoodshoreschapel.org
X-WR-CALDESC:Events for The Chapel at Sherwood Shores
REFRESH-INTERVAL;VALUE=DURATION:PT1H
X-Robots-Tag:noindex
X-PUBLISHED-TTL:PT1H
BEGIN:VTIMEZONE
TZID:UTC
BEGIN:STANDARD
TZOFFSETFROM:+0000
TZOFFSETTO:+0000
TZNAME:UTC
DTSTART:20210101T000000
END:STANDARD
END:VTIMEZONE
BEGIN:VTIMEZONE
TZID:America/Mexico_City
BEGIN:DAYLIGHT
TZOFFSETFROM:-0600
TZOFFSETTO:-0500
TZNAME:CDT
DTSTART:20210404T080000
END:DAYLIGHT
BEGIN:STANDARD
TZOFFSETFROM:-0500
TZOFFSETTO:-0600
TZNAME:CST
DTSTART:20211031T070000
END:STANDARD
BEGIN:DAYLIGHT
TZOFFSETFROM:-0600
TZOFFSETTO:-0500
TZNAME:CDT
DTSTART:20220403T080000
END:DAYLIGHT
BEGIN:STANDARD
TZOFFSETFROM:-0500
TZOFFSETTO:-0600
TZNAME:CST
DTSTART:20221030T070000
END:STANDARD
END:VTIMEZONE
BEGIN:VEVENT
DTSTART;TZID=UTC:20220410T103000
DTEND;TZID=UTC:20220410T113000
DTSTAMP:20260424T081558
CREATED:20200412T214002Z
LAST-MODIFIED:20211223T202203Z
UID:1993-1649586600-1649590200@sherwoodshoreschapel.org
SUMMARY:Sunday Worship Service
DESCRIPTION:Come worship with us.
URL:https://sherwoodshoreschapel.org/index.php/event/sunday-worship-service-2022-04-10/
LOCATION:The Chapel\, 969 Hillcrest Circle\, Gordonville\, TX\, 76245\, United States
CATEGORIES:Sunday Morning Worship Service
ATTACH;FMTTYPE=image/png:https://sherwoodshoreschapel.org/wp-content/uploads/2020/04/sunday-sermon.png
ORGANIZER;CN="The Chapel at Sherwood Shores":MAILTO:chapeloffice@sherwoodshoreschapel.org
END:VEVENT
BEGIN:VEVENT
DTSTART;TZID=UTC:20220406T180000
DTEND;TZID=UTC:20220406T190000
DTSTAMP:20260424T081559
CREATED:20211223T200324Z
LAST-MODIFIED:20211224T154229Z
UID:2290-1649268000-1649271600@sherwoodshoreschapel.org
SUMMARY:Wednesday Evening Bible Study
DESCRIPTION:
URL:https://sherwoodshoreschapel.org/index.php/event/wednesday-evening-bible-study-2022-04-06/
LOCATION:The Chapel\, 969 Hillcrest Circle\, Gordonville\, TX\, 76245\, United States
CATEGORIES:Teaching
ATTACH;FMTTYPE=image/png:https://sherwoodshoreschapel.org/wp-content/uploads/2021/12/Wed-Night-Bible-Study.png
ORGANIZER;CN="The Chapel at Sherwood Shores":MAILTO:chapeloffice@sherwoodshoreschapel.org
END:VEVENT
BEGIN:VEVENT
DTSTART;TZID=UTC:20220403T180000
DTEND;TZID=UTC:20220403T190000
DTSTAMP:20260424T081559
CREATED:20211223T201108Z
LAST-MODIFIED:20211223T201108Z
UID:2349-1649008800-1649012400@sherwoodshoreschapel.org
SUMMARY:Sunday Evening Service
DESCRIPTION:
URL:https://sherwoodshoreschapel.org/index.php/event/sunday-evening-service-2022-04-03/
LOCATION:The Chapel\, 969 Hillcrest Circle\, Gordonville\, TX\, 76245\, United States
CATEGORIES:Teaching
ATTACH;FMTTYPE=image/jpeg:https://sherwoodshoreschapel.org/wp-content/uploads/2021/12/page-bible-studies.jpg
ORGANIZER;CN="The Chapel at Sherwood Shores":MAILTO:chapeloffice@sherwoodshoreschapel.org
END:VEVENT
BEGIN:VEVENT
DTSTART;TZID=UTC:20220403T103000
DTEND;TZID=UTC:20220403T113000
DTSTAMP:20260424T081559
CREATED:20200412T214002Z
LAST-MODIFIED:20211223T202202Z
UID:1992-1648981800-1648985400@sherwoodshoreschapel.org
SUMMARY:Sunday Worship Service
DESCRIPTION:Come worship with us.
URL:https://sherwoodshoreschapel.org/index.php/event/sunday-worship-service-2022-04-03/
LOCATION:The Chapel\, 969 Hillcrest Circle\, Gordonville\, TX\, 76245\, United States
CATEGORIES:Sunday Morning Worship Service
ATTACH;FMTTYPE=image/png:https://sherwoodshoreschapel.org/wp-content/uploads/2020/04/sunday-sermon.png
ORGANIZER;CN="The Chapel at Sherwood Shores":MAILTO:chapeloffice@sherwoodshoreschapel.org
END:VEVENT
BEGIN:VEVENT
DTSTART;TZID=UTC:20220330T180000
DTEND;TZID=UTC:20220330T190000
DTSTAMP:20260424T081559
CREATED:20211223T200324Z
LAST-MODIFIED:20211224T154229Z
UID:2289-1648663200-1648666800@sherwoodshoreschapel.org
SUMMARY:Wednesday Evening Bible Study
DESCRIPTION:
URL:https://sherwoodshoreschapel.org/index.php/event/wednesday-evening-bible-study-2022-03-30/
LOCATION:The Chapel\, 969 Hillcrest Circle\, Gordonville\, TX\, 76245\, United States
CATEGORIES:Teaching
ATTACH;FMTTYPE=image/png:https://sherwoodshoreschapel.org/wp-content/uploads/2021/12/Wed-Night-Bible-Study.png
ORGANIZER;CN="The Chapel at Sherwood Shores":MAILTO:chapeloffice@sherwoodshoreschapel.org
END:VEVENT
BEGIN:VEVENT
DTSTART;TZID=UTC:20220327T180000
DTEND;TZID=UTC:20220327T190000
DTSTAMP:20260424T081559
CREATED:20211223T201108Z
LAST-MODIFIED:20211223T201108Z
UID:2348-1648404000-1648407600@sherwoodshoreschapel.org
SUMMARY:Sunday Evening Service
DESCRIPTION:
URL:https://sherwoodshoreschapel.org/index.php/event/sunday-evening-service-2022-03-27/
LOCATION:The Chapel\, 969 Hillcrest Circle\, Gordonville\, TX\, 76245\, United States
CATEGORIES:Teaching
ATTACH;FMTTYPE=image/jpeg:https://sherwoodshoreschapel.org/wp-content/uploads/2021/12/page-bible-studies.jpg
ORGANIZER;CN="The Chapel at Sherwood Shores":MAILTO:chapeloffice@sherwoodshoreschapel.org
END:VEVENT
BEGIN:VEVENT
DTSTART;TZID=UTC:20220327T103000
DTEND;TZID=UTC:20220327T113000
DTSTAMP:20260424T081559
CREATED:20200412T214002Z
LAST-MODIFIED:20211223T202201Z
UID:1991-1648377000-1648380600@sherwoodshoreschapel.org
SUMMARY:Sunday Worship Service
DESCRIPTION:Come worship with us.
URL:https://sherwoodshoreschapel.org/index.php/event/sunday-worship-service-2022-03-27/
LOCATION:The Chapel\, 969 Hillcrest Circle\, Gordonville\, TX\, 76245\, United States
CATEGORIES:Sunday Morning Worship Service
ATTACH;FMTTYPE=image/png:https://sherwoodshoreschapel.org/wp-content/uploads/2020/04/sunday-sermon.png
ORGANIZER;CN="The Chapel at Sherwood Shores":MAILTO:chapeloffice@sherwoodshoreschapel.org
END:VEVENT
BEGIN:VEVENT
DTSTART;TZID=UTC:20220323T180000
DTEND;TZID=UTC:20220323T190000
DTSTAMP:20260424T081559
CREATED:20211223T200324Z
LAST-MODIFIED:20211224T154228Z
UID:2288-1648058400-1648062000@sherwoodshoreschapel.org
SUMMARY:Wednesday Evening Bible Study
DESCRIPTION:
URL:https://sherwoodshoreschapel.org/index.php/event/wednesday-evening-bible-study-2022-03-23/
LOCATION:The Chapel\, 969 Hillcrest Circle\, Gordonville\, TX\, 76245\, United States
CATEGORIES:Teaching
ATTACH;FMTTYPE=image/png:https://sherwoodshoreschapel.org/wp-content/uploads/2021/12/Wed-Night-Bible-Study.png
ORGANIZER;CN="The Chapel at Sherwood Shores":MAILTO:chapeloffice@sherwoodshoreschapel.org
END:VEVENT
BEGIN:VEVENT
DTSTART;TZID=UTC:20220320T180000
DTEND;TZID=UTC:20220320T190000
DTSTAMP:20260424T081559
CREATED:20211223T201108Z
LAST-MODIFIED:20211223T201108Z
UID:2347-1647799200-1647802800@sherwoodshoreschapel.org
SUMMARY:Sunday Evening Service
DESCRIPTION:
URL:https://sherwoodshoreschapel.org/index.php/event/sunday-evening-service-2022-03-20/
LOCATION:The Chapel\, 969 Hillcrest Circle\, Gordonville\, TX\, 76245\, United States
CATEGORIES:Teaching
ATTACH;FMTTYPE=image/jpeg:https://sherwoodshoreschapel.org/wp-content/uploads/2021/12/page-bible-studies.jpg
ORGANIZER;CN="The Chapel at Sherwood Shores":MAILTO:chapeloffice@sherwoodshoreschapel.org
END:VEVENT
BEGIN:VEVENT
DTSTART;TZID=UTC:20220320T103000
DTEND;TZID=UTC:20220320T113000
DTSTAMP:20260424T081559
CREATED:20200412T214002Z
LAST-MODIFIED:20211223T202201Z
UID:1990-1647772200-1647775800@sherwoodshoreschapel.org
SUMMARY:Sunday Worship Service
DESCRIPTION:Come worship with us.
URL:https://sherwoodshoreschapel.org/index.php/event/sunday-worship-service-2022-03-20/
LOCATION:The Chapel\, 969 Hillcrest Circle\, Gordonville\, TX\, 76245\, United States
CATEGORIES:Sunday Morning Worship Service
ATTACH;FMTTYPE=image/png:https://sherwoodshoreschapel.org/wp-content/uploads/2020/04/sunday-sermon.png
ORGANIZER;CN="The Chapel at Sherwood Shores":MAILTO:chapeloffice@sherwoodshoreschapel.org
END:VEVENT
BEGIN:VEVENT
DTSTART;TZID=America/Mexico_City:20220319T100000
DTEND;TZID=America/Mexico_City:20220319T110000
DTSTAMP:20260424T081559
CREATED:20200412T120048Z
LAST-MODIFIED:20200412T120048Z
UID:2264-1647684000-1647687600@sherwoodshoreschapel.org
SUMMARY:Board of Elders Meeting
DESCRIPTION:We will meet in The Chapel Community Hall at 10:00 AM.
URL:https://sherwoodshoreschapel.org/index.php/event/elders_meeting-2022-03-19/
LOCATION:TX
CATEGORIES:Church Business
ATTACH;FMTTYPE=image/jpeg:https://sherwoodshoreschapel.org/wp-content/uploads/2016/12/elders_meeting.jpg
ORGANIZER;CN="Pastor Bobby Baker":MAILTO:pastor@sherwoodshoreschapel.org
END:VEVENT
BEGIN:VEVENT
DTSTART;TZID=UTC:20220316T180000
DTEND;TZID=UTC:20220316T190000
DTSTAMP:20260424T081559
CREATED:20211223T200324Z
LAST-MODIFIED:20211224T154228Z
UID:2287-1647453600-1647457200@sherwoodshoreschapel.org
SUMMARY:Wednesday Evening Bible Study
DESCRIPTION:
URL:https://sherwoodshoreschapel.org/index.php/event/wednesday-evening-bible-study-2022-03-16/
LOCATION:The Chapel\, 969 Hillcrest Circle\, Gordonville\, TX\, 76245\, United States
CATEGORIES:Teaching
ATTACH;FMTTYPE=image/png:https://sherwoodshoreschapel.org/wp-content/uploads/2021/12/Wed-Night-Bible-Study.png
ORGANIZER;CN="The Chapel at Sherwood Shores":MAILTO:chapeloffice@sherwoodshoreschapel.org
END:VEVENT
BEGIN:VEVENT
DTSTART;TZID=America/Mexico_City:20220314T090000
DTEND;TZID=America/Mexico_City:20220314T100000
DTSTAMP:20260424T081559
CREATED:20200412T120003Z
LAST-MODIFIED:20211223T195734Z
UID:2213-1647248400-1647252000@sherwoodshoreschapel.org
SUMMARY:Board of Deacons Meeting
DESCRIPTION:We will meet in The Chapel Community Hall at 9:00 AM.
URL:https://sherwoodshoreschapel.org/index.php/event/speaking-the-gospel-with-clarity-2022-03-14/
LOCATION:TX
CATEGORIES:Church Business
ATTACH;FMTTYPE=image/png:https://sherwoodshoreschapel.org/wp-content/uploads/2016/12/deacons-meeting1.png
ORGANIZER;CN="Pastor Bobby Baker":MAILTO:pastor@sherwoodshoreschapel.org
END:VEVENT
BEGIN:VEVENT
DTSTART;TZID=UTC:20220313T180000
DTEND;TZID=UTC:20220313T190000
DTSTAMP:20260424T081559
CREATED:20211223T201108Z
LAST-MODIFIED:20211223T201108Z
UID:2346-1647194400-1647198000@sherwoodshoreschapel.org
SUMMARY:Sunday Evening Service
DESCRIPTION:
URL:https://sherwoodshoreschapel.org/index.php/event/sunday-evening-service-2022-03-13/
LOCATION:The Chapel\, 969 Hillcrest Circle\, Gordonville\, TX\, 76245\, United States
CATEGORIES:Teaching
ATTACH;FMTTYPE=image/jpeg:https://sherwoodshoreschapel.org/wp-content/uploads/2021/12/page-bible-studies.jpg
ORGANIZER;CN="The Chapel at Sherwood Shores":MAILTO:chapeloffice@sherwoodshoreschapel.org
END:VEVENT
BEGIN:VEVENT
DTSTART;TZID=UTC:20220313T103000
DTEND;TZID=UTC:20220313T113000
DTSTAMP:20260424T081559
CREATED:20200412T214002Z
LAST-MODIFIED:20211223T202201Z
UID:1989-1647167400-1647171000@sherwoodshoreschapel.org
SUMMARY:Sunday Worship Service
DESCRIPTION:Come worship with us.
URL:https://sherwoodshoreschapel.org/index.php/event/sunday-worship-service-2022-03-13/
LOCATION:The Chapel\, 969 Hillcrest Circle\, Gordonville\, TX\, 76245\, United States
CATEGORIES:Sunday Morning Worship Service
ATTACH;FMTTYPE=image/png:https://sherwoodshoreschapel.org/wp-content/uploads/2020/04/sunday-sermon.png
ORGANIZER;CN="The Chapel at Sherwood Shores":MAILTO:chapeloffice@sherwoodshoreschapel.org
END:VEVENT
BEGIN:VEVENT
DTSTART;TZID=UTC:20220309T180000
DTEND;TZID=UTC:20220309T190000
DTSTAMP:20260424T081559
CREATED:20211223T200324Z
LAST-MODIFIED:20211224T154221Z
UID:2286-1646848800-1646852400@sherwoodshoreschapel.org
SUMMARY:Wednesday Evening Bible Study
DESCRIPTION:
URL:https://sherwoodshoreschapel.org/index.php/event/wednesday-evening-bible-study-2022-03-09/
LOCATION:The Chapel\, 969 Hillcrest Circle\, Gordonville\, TX\, 76245\, United States
CATEGORIES:Teaching
ATTACH;FMTTYPE=image/png:https://sherwoodshoreschapel.org/wp-content/uploads/2021/12/Wed-Night-Bible-Study.png
ORGANIZER;CN="The Chapel at Sherwood Shores":MAILTO:chapeloffice@sherwoodshoreschapel.org
END:VEVENT
BEGIN:VEVENT
DTSTART;TZID=UTC:20220306T180000
DTEND;TZID=UTC:20220306T190000
DTSTAMP:20260424T081559
CREATED:20211223T201108Z
LAST-MODIFIED:20211223T201108Z
UID:2345-1646589600-1646593200@sherwoodshoreschapel.org
SUMMARY:Sunday Evening Service
DESCRIPTION:
URL:https://sherwoodshoreschapel.org/index.php/event/sunday-evening-service-2022-03-06/
LOCATION:The Chapel\, 969 Hillcrest Circle\, Gordonville\, TX\, 76245\, United States
CATEGORIES:Teaching
ATTACH;FMTTYPE=image/jpeg:https://sherwoodshoreschapel.org/wp-content/uploads/2021/12/page-bible-studies.jpg
ORGANIZER;CN="The Chapel at Sherwood Shores":MAILTO:chapeloffice@sherwoodshoreschapel.org
END:VEVENT
BEGIN:VEVENT
DTSTART;TZID=UTC:20220306T103000
DTEND;TZID=UTC:20220306T113000
DTSTAMP:20260424T081559
CREATED:20200412T214002Z
LAST-MODIFIED:20211223T202200Z
UID:1988-1646562600-1646566200@sherwoodshoreschapel.org
SUMMARY:Sunday Worship Service
DESCRIPTION:Come worship with us.
URL:https://sherwoodshoreschapel.org/index.php/event/sunday-worship-service-2022-03-06/
LOCATION:The Chapel\, 969 Hillcrest Circle\, Gordonville\, TX\, 76245\, United States
CATEGORIES:Sunday Morning Worship Service
ATTACH;FMTTYPE=image/png:https://sherwoodshoreschapel.org/wp-content/uploads/2020/04/sunday-sermon.png
ORGANIZER;CN="The Chapel at Sherwood Shores":MAILTO:chapeloffice@sherwoodshoreschapel.org
END:VEVENT
BEGIN:VEVENT
DTSTART;TZID=UTC:20220302T180000
DTEND;TZID=UTC:20220302T190000
DTSTAMP:20260424T081559
CREATED:20211223T200324Z
LAST-MODIFIED:20211224T154221Z
UID:2285-1646244000-1646247600@sherwoodshoreschapel.org
SUMMARY:Wednesday Evening Bible Study
DESCRIPTION:
URL:https://sherwoodshoreschapel.org/index.php/event/wednesday-evening-bible-study-2022-03-02/
LOCATION:The Chapel\, 969 Hillcrest Circle\, Gordonville\, TX\, 76245\, United States
CATEGORIES:Teaching
ATTACH;FMTTYPE=image/png:https://sherwoodshoreschapel.org/wp-content/uploads/2021/12/Wed-Night-Bible-Study.png
ORGANIZER;CN="The Chapel at Sherwood Shores":MAILTO:chapeloffice@sherwoodshoreschapel.org
END:VEVENT
BEGIN:VEVENT
DTSTART;TZID=UTC:20220227T180000
DTEND;TZID=UTC:20220227T190000
DTSTAMP:20260424T081559
CREATED:20211223T201108Z
LAST-MODIFIED:20211223T201108Z
UID:2344-1645984800-1645988400@sherwoodshoreschapel.org
SUMMARY:Sunday Evening Service
DESCRIPTION:
URL:https://sherwoodshoreschapel.org/index.php/event/sunday-evening-service-2022-02-27/
LOCATION:The Chapel\, 969 Hillcrest Circle\, Gordonville\, TX\, 76245\, United States
CATEGORIES:Teaching
ATTACH;FMTTYPE=image/jpeg:https://sherwoodshoreschapel.org/wp-content/uploads/2021/12/page-bible-studies.jpg
ORGANIZER;CN="The Chapel at Sherwood Shores":MAILTO:chapeloffice@sherwoodshoreschapel.org
END:VEVENT
BEGIN:VEVENT
DTSTART;TZID=UTC:20220227T103000
DTEND;TZID=UTC:20220227T113000
DTSTAMP:20260424T081559
CREATED:20200412T214002Z
LAST-MODIFIED:20211223T202200Z
UID:1987-1645957800-1645961400@sherwoodshoreschapel.org
SUMMARY:Sunday Worship Service
DESCRIPTION:Come worship with us.
URL:https://sherwoodshoreschapel.org/index.php/event/sunday-worship-service-2022-02-27/
LOCATION:The Chapel\, 969 Hillcrest Circle\, Gordonville\, TX\, 76245\, United States
CATEGORIES:Sunday Morning Worship Service
ATTACH;FMTTYPE=image/png:https://sherwoodshoreschapel.org/wp-content/uploads/2020/04/sunday-sermon.png
ORGANIZER;CN="The Chapel at Sherwood Shores":MAILTO:chapeloffice@sherwoodshoreschapel.org
END:VEVENT
BEGIN:VEVENT
DTSTART;TZID=UTC:20220223T180000
DTEND;TZID=UTC:20220223T190000
DTSTAMP:20260424T081559
CREATED:20211223T200324Z
LAST-MODIFIED:20211224T154221Z
UID:2284-1645639200-1645642800@sherwoodshoreschapel.org
SUMMARY:Wednesday Evening Bible Study
DESCRIPTION:
URL:https://sherwoodshoreschapel.org/index.php/event/wednesday-evening-bible-study-2022-02-23/
LOCATION:The Chapel\, 969 Hillcrest Circle\, Gordonville\, TX\, 76245\, United States
CATEGORIES:Teaching
ATTACH;FMTTYPE=image/png:https://sherwoodshoreschapel.org/wp-content/uploads/2021/12/Wed-Night-Bible-Study.png
ORGANIZER;CN="The Chapel at Sherwood Shores":MAILTO:chapeloffice@sherwoodshoreschapel.org
END:VEVENT
BEGIN:VEVENT
DTSTART;TZID=UTC:20220220T180000
DTEND;TZID=UTC:20220220T190000
DTSTAMP:20260424T081559
CREATED:20211223T201108Z
LAST-MODIFIED:20211223T201108Z
UID:2343-1645380000-1645383600@sherwoodshoreschapel.org
SUMMARY:Sunday Evening Service
DESCRIPTION:
URL:https://sherwoodshoreschapel.org/index.php/event/sunday-evening-service-2022-02-20/
LOCATION:The Chapel\, 969 Hillcrest Circle\, Gordonville\, TX\, 76245\, United States
CATEGORIES:Teaching
ATTACH;FMTTYPE=image/jpeg:https://sherwoodshoreschapel.org/wp-content/uploads/2021/12/page-bible-studies.jpg
ORGANIZER;CN="The Chapel at Sherwood Shores":MAILTO:chapeloffice@sherwoodshoreschapel.org
END:VEVENT
BEGIN:VEVENT
DTSTART;TZID=UTC:20220220T103000
DTEND;TZID=UTC:20220220T113000
DTSTAMP:20260424T081559
CREATED:20200412T214002Z
LAST-MODIFIED:20211223T202200Z
UID:1986-1645353000-1645356600@sherwoodshoreschapel.org
SUMMARY:Sunday Worship Service
DESCRIPTION:Come worship with us.
URL:https://sherwoodshoreschapel.org/index.php/event/sunday-worship-service-2022-02-20/
LOCATION:The Chapel\, 969 Hillcrest Circle\, Gordonville\, TX\, 76245\, United States
CATEGORIES:Sunday Morning Worship Service
ATTACH;FMTTYPE=image/png:https://sherwoodshoreschapel.org/wp-content/uploads/2020/04/sunday-sermon.png
ORGANIZER;CN="The Chapel at Sherwood Shores":MAILTO:chapeloffice@sherwoodshoreschapel.org
END:VEVENT
BEGIN:VEVENT
DTSTART;TZID=America/Mexico_City:20220219T100000
DTEND;TZID=America/Mexico_City:20220219T110000
DTSTAMP:20260424T081559
CREATED:20200412T120048Z
LAST-MODIFIED:20200412T120048Z
UID:2263-1645264800-1645268400@sherwoodshoreschapel.org
SUMMARY:Board of Elders Meeting
DESCRIPTION:We will meet in The Chapel Community Hall at 10:00 AM.
URL:https://sherwoodshoreschapel.org/index.php/event/elders_meeting-2022-02-19/
LOCATION:TX
CATEGORIES:Church Business
ATTACH;FMTTYPE=image/jpeg:https://sherwoodshoreschapel.org/wp-content/uploads/2016/12/elders_meeting.jpg
ORGANIZER;CN="Pastor Bobby Baker":MAILTO:pastor@sherwoodshoreschapel.org
END:VEVENT
BEGIN:VEVENT
DTSTART;TZID=UTC:20220216T180000
DTEND;TZID=UTC:20220216T190000
DTSTAMP:20260424T081559
CREATED:20211223T200324Z
LAST-MODIFIED:20211224T154221Z
UID:2283-1645034400-1645038000@sherwoodshoreschapel.org
SUMMARY:Wednesday Evening Bible Study
DESCRIPTION:
URL:https://sherwoodshoreschapel.org/index.php/event/wednesday-evening-bible-study-2022-02-16/
LOCATION:The Chapel\, 969 Hillcrest Circle\, Gordonville\, TX\, 76245\, United States
CATEGORIES:Teaching
ATTACH;FMTTYPE=image/png:https://sherwoodshoreschapel.org/wp-content/uploads/2021/12/Wed-Night-Bible-Study.png
ORGANIZER;CN="The Chapel at Sherwood Shores":MAILTO:chapeloffice@sherwoodshoreschapel.org
END:VEVENT
BEGIN:VEVENT
DTSTART;TZID=America/Mexico_City:20220214T090000
DTEND;TZID=America/Mexico_City:20220214T100000
DTSTAMP:20260424T081559
CREATED:20200412T120003Z
LAST-MODIFIED:20211223T195734Z
UID:2212-1644829200-1644832800@sherwoodshoreschapel.org
SUMMARY:Board of Deacons Meeting
DESCRIPTION:We will meet in The Chapel Community Hall at 9:00 AM.
URL:https://sherwoodshoreschapel.org/index.php/event/speaking-the-gospel-with-clarity-2022-02-14/
LOCATION:TX
CATEGORIES:Church Business
ATTACH;FMTTYPE=image/png:https://sherwoodshoreschapel.org/wp-content/uploads/2016/12/deacons-meeting1.png
ORGANIZER;CN="Pastor Bobby Baker":MAILTO:pastor@sherwoodshoreschapel.org
END:VEVENT
BEGIN:VEVENT
DTSTART;TZID=UTC:20220213T180000
DTEND;TZID=UTC:20220213T190000
DTSTAMP:20260424T081559
CREATED:20211223T201108Z
LAST-MODIFIED:20211223T201108Z
UID:2342-1644775200-1644778800@sherwoodshoreschapel.org
SUMMARY:Sunday Evening Service
DESCRIPTION:
URL:https://sherwoodshoreschapel.org/index.php/event/sunday-evening-service-2022-02-13/
LOCATION:The Chapel\, 969 Hillcrest Circle\, Gordonville\, TX\, 76245\, United States
CATEGORIES:Teaching
ATTACH;FMTTYPE=image/jpeg:https://sherwoodshoreschapel.org/wp-content/uploads/2021/12/page-bible-studies.jpg
ORGANIZER;CN="The Chapel at Sherwood Shores":MAILTO:chapeloffice@sherwoodshoreschapel.org
END:VEVENT
BEGIN:VEVENT
DTSTART;TZID=UTC:20220213T103000
DTEND;TZID=UTC:20220213T113000
DTSTAMP:20260424T081559
CREATED:20200412T214002Z
LAST-MODIFIED:20211223T202200Z
UID:1985-1644748200-1644751800@sherwoodshoreschapel.org
SUMMARY:Sunday Worship Service
DESCRIPTION:Come worship with us.
URL:https://sherwoodshoreschapel.org/index.php/event/sunday-worship-service-2022-02-13/
LOCATION:The Chapel\, 969 Hillcrest Circle\, Gordonville\, TX\, 76245\, United States
CATEGORIES:Sunday Morning Worship Service
ATTACH;FMTTYPE=image/png:https://sherwoodshoreschapel.org/wp-content/uploads/2020/04/sunday-sermon.png
ORGANIZER;CN="The Chapel at Sherwood Shores":MAILTO:chapeloffice@sherwoodshoreschapel.org
END:VEVENT
BEGIN:VEVENT
DTSTART;TZID=UTC:20220209T180000
DTEND;TZID=UTC:20220209T190000
DTSTAMP:20260424T081559
CREATED:20211223T200324Z
LAST-MODIFIED:20211224T154221Z
UID:2282-1644429600-1644433200@sherwoodshoreschapel.org
SUMMARY:Wednesday Evening Bible Study
DESCRIPTION:
URL:https://sherwoodshoreschapel.org/index.php/event/wednesday-evening-bible-study-2022-02-09/
LOCATION:The Chapel\, 969 Hillcrest Circle\, Gordonville\, TX\, 76245\, United States
CATEGORIES:Teaching
ATTACH;FMTTYPE=image/png:https://sherwoodshoreschapel.org/wp-content/uploads/2021/12/Wed-Night-Bible-Study.png
ORGANIZER;CN="The Chapel at Sherwood Shores":MAILTO:chapeloffice@sherwoodshoreschapel.org
END:VEVENT
END:VCALENDAR